BEGIN:VCALENDAR
VERSION:2.0
PRODID:-//EDGE District - ECPv6.15.18//NONSGML v1.0//EN
CALSCALE:GREGORIAN
METHOD:PUBLISH
X-WR-CALNAME:EDGE District
X-ORIGINAL-URL:https://edgedistrict.org
X-WR-CALDESC:Events for EDGE District
REFRESH-INTERVAL;VALUE=DURATION:PT1H
X-Robots-Tag:noindex
X-PUBLISHED-TTL:PT1H
BEGIN:VTIMEZONE
TZID:America/New_York
BEGIN:DAYLIGHT
TZOFFSETFROM:-0500
TZOFFSETTO:-0400
TZNAME:EDT
DTSTART:20250309T070000
END:DAYLIGHT
BEGIN:STANDARD
TZOFFSETFROM:-0400
TZOFFSETTO:-0500
TZNAME:EST
DTSTART:20251102T060000
END:STANDARD
BEGIN:DAYLIGHT
TZOFFSETFROM:-0500
TZOFFSETTO:-0400
TZNAME:EDT
DTSTART:20260308T070000
END:DAYLIGHT
BEGIN:STANDARD
TZOFFSETFROM:-0400
TZOFFSETTO:-0500
TZNAME:EST
DTSTART:20261101T060000
END:STANDARD
BEGIN:DAYLIGHT
TZOFFSETFROM:-0500
TZOFFSETTO:-0400
TZNAME:EDT
DTSTART:20270314T070000
END:DAYLIGHT
BEGIN:STANDARD
TZOFFSETFROM:-0400
TZOFFSETTO:-0500
TZNAME:EST
DTSTART:20271107T060000
END:STANDARD
END:VTIMEZONE
BEGIN:VEVENT
DTSTART;TZID=America/New_York:20260307T073000
DTEND;TZID=America/New_York:20260307T130000
DTSTAMP:20260422T054438
CREATED:20260307T203145Z
LAST-MODIFIED:20260307T203145Z
UID:23025-1772868600-1772888400@edgedistrict.org
SUMMARY:Rare Body Pilates Annual Block Party
DESCRIPTION:🎉 We’re popping up at the Rare Body Pilates Annual Block Party! 🎉 \nJoin us March 7th from 7:30 AM – 1:00 PM at Rare Body Pilates in St. Pete as we celebrate community\, movement\, and local businesses! \n✨ InVigorate IV will be set up offering discounted vitamin injections to help boost your energy\, immunity\, metabolism\, and overall wellness. If you’ve been wanting to try one\, this is the perfect opportunity! We will also be offering 4 pack packages at the event only!!! \n💪 Rare Body will be offering classes during the event\, so you can get an amazing workout in while you’re there!\n🎶 Live DJ\n🛍 Local vendors\n🔥 Studio deals & more \nWe love partnering with incredible local businesses and being part of events that bring our St. Pete community together. Come move your body\, support local\, and get your wellness boost all in one place!
URL:https://edgedistrict.org/edge-event/rare-body-pilates-annual-block-party/
ATTACH;FMTTYPE=image/jpeg:https://edgedistrict.org/wp-content/uploads/2026/03/13D1FB2D-C58D-4C35-B014-311FB2B40CB7.jpeg
END:VEVENT
END:VCALENDAR