BEGIN:VCALENDAR
VERSION:2.0
PRODID:-//EDGE District - ECPv6.15.18//NONSGML v1.0//EN
CALSCALE:GREGORIAN
METHOD:PUBLISH
X-WR-CALNAME:EDGE District
X-ORIGINAL-URL:https://edgedistrict.org
X-WR-CALDESC:Events for EDGE District
REFRESH-INTERVAL;VALUE=DURATION:PT1H
X-Robots-Tag:noindex
X-PUBLISHED-TTL:PT1H
BEGIN:VTIMEZONE
TZID:America/New_York
BEGIN:DAYLIGHT
TZOFFSETFROM:-0500
TZOFFSETTO:-0400
TZNAME:EDT
DTSTART:20250309T070000
END:DAYLIGHT
BEGIN:STANDARD
TZOFFSETFROM:-0400
TZOFFSETTO:-0500
TZNAME:EST
DTSTART:20251102T060000
END:STANDARD
BEGIN:DAYLIGHT
TZOFFSETFROM:-0500
TZOFFSETTO:-0400
TZNAME:EDT
DTSTART:20260308T070000
END:DAYLIGHT
BEGIN:STANDARD
TZOFFSETFROM:-0400
TZOFFSETTO:-0500
TZNAME:EST
DTSTART:20261101T060000
END:STANDARD
BEGIN:DAYLIGHT
TZOFFSETFROM:-0500
TZOFFSETTO:-0400
TZNAME:EDT
DTSTART:20270314T070000
END:DAYLIGHT
BEGIN:STANDARD
TZOFFSETFROM:-0400
TZOFFSETTO:-0500
TZNAME:EST
DTSTART:20271107T060000
END:STANDARD
END:VTIMEZONE
BEGIN:VEVENT
DTSTART;TZID=America/New_York:20260528T193000
DTEND;TZID=America/New_York:20260528T203000
DTSTAMP:20260425T145444
CREATED:20260425T115122Z
LAST-MODIFIED:20260425T115122Z
UID:23278-1779996600-1780000200@edgedistrict.org
SUMMARY:Town Hall: Advancing Composting Solutions in St. Pete
DESCRIPTION:May 28th 7:30pm – 8:30pm \n@ Sans Market 1037 Central Ave. \nJoin us the day before International Day of Composting to chat all things composting and how we can expand accessibility in St. Pete!\nGuest Speaker: Xavier De Roos Founder of Renuable Commercial Composting \n-Brief overview of composting\n-Discuss infrastructure and accessibility challenges\n-How composting can support local + statewide plastic reduction initiatives\n-Composting in St. Pete\n-Composting Q&A\n*BYOC (bring your own chair since seats are limited) \nThis is a FREE event\, but we do ask that you RSVP in advance so we have an accurate headcount.
URL:https://edgedistrict.org/edge-event/town-hall-advancing-composting-solutions-in-st-pete/
LOCATION:Sans Market\, 1037 Central Ave\, St. Petersburg\, FL\, 33705
ATTACH;FMTTYPE=image/jpeg:https://edgedistrict.org/wp-content/uploads/2026/04/Instagram-Posts-44.jpg
ORGANIZER;CN="Roger Curlin":MAILTO:director@edgedistrict.org
END:VEVENT
END:VCALENDAR