BEGIN:VCALENDAR
VERSION:2.0
PRODID:-//EDGE District - ECPv6.15.18//NONSGML v1.0//EN
CALSCALE:GREGORIAN
METHOD:PUBLISH
X-ORIGINAL-URL:https://edgedistrict.org
X-WR-CALDESC:Events for EDGE District
REFRESH-INTERVAL;VALUE=DURATION:PT1H
X-Robots-Tag:noindex
X-PUBLISHED-TTL:PT1H
BEGIN:VTIMEZONE
TZID:America/New_York
BEGIN:DAYLIGHT
TZOFFSETFROM:-0500
TZOFFSETTO:-0400
TZNAME:EDT
DTSTART:20240310T070000
END:DAYLIGHT
BEGIN:STANDARD
TZOFFSETFROM:-0400
TZOFFSETTO:-0500
TZNAME:EST
DTSTART:20241103T060000
END:STANDARD
BEGIN:DAYLIGHT
TZOFFSETFROM:-0500
TZOFFSETTO:-0400
TZNAME:EDT
DTSTART:20250309T070000
END:DAYLIGHT
BEGIN:STANDARD
TZOFFSETFROM:-0400
TZOFFSETTO:-0500
TZNAME:EST
DTSTART:20251102T060000
END:STANDARD
BEGIN:DAYLIGHT
TZOFFSETFROM:-0500
TZOFFSETTO:-0400
TZNAME:EDT
DTSTART:20260308T070000
END:DAYLIGHT
BEGIN:STANDARD
TZOFFSETFROM:-0400
TZOFFSETTO:-0500
TZNAME:EST
DTSTART:20261101T060000
END:STANDARD
END:VTIMEZONE
BEGIN:VEVENT
DTSTART;TZID=America/New_York:20250927T160000
DTEND;TZID=America/New_York:20250927T180000
DTSTAMP:20260424T061639
CREATED:20250923T190117Z
LAST-MODIFIED:20250923T190117Z
UID:10000466-1758988800-1758996000@edgedistrict.org
SUMMARY:CBD Paint & Sip
DESCRIPTION:
URL:https://edgedistrict.org/edge-event/cbd-paint-sip/
LOCATION:Your CBD Store St. Pete\, 1219 Dr. MLK JR ST N\, Saint Petersburg\, FL\, 33701\, United States
CATEGORIES:Art & Culture
ATTACH;FMTTYPE=image/png:https://edgedistrict.org/wp-content/uploads/2025/09/Rainbow-Edition.png
END:VEVENT
BEGIN:VEVENT
DTSTART;TZID=America/New_York:20250927T170000
DTEND;TZID=America/New_York:20250927T220000
DTSTAMP:20260424T061639
CREATED:20250909T231902Z
LAST-MODIFIED:20250909T231902Z
UID:10000465-1758992400-1759010400@edgedistrict.org
SUMMARY:Caribbean Day Party
DESCRIPTION:
URL:https://edgedistrict.org/edge-event/caribbean-day-party/
LOCATION:Estate Cigars & Social\, 1201 4th St S\, St. Petersburg\, FL\, 33701\, United States
CATEGORIES:Eat & Drink
ATTACH;FMTTYPE=image/jpeg:https://edgedistrict.org/wp-content/uploads/2025/09/CaribbeanDayParty-Estate-Cigars.jpeg
END:VEVENT
END:VCALENDAR