BEGIN:VCALENDAR
VERSION:2.0
PRODID:-//EDGE District - ECPv6.15.18//NONSGML v1.0//EN
CALSCALE:GREGORIAN
METHOD:PUBLISH
X-ORIGINAL-URL:https://edgedistrict.org
X-WR-CALDESC:Events for EDGE District
REFRESH-INTERVAL;VALUE=DURATION:PT1H
X-Robots-Tag:noindex
X-PUBLISHED-TTL:PT1H
BEGIN:VTIMEZONE
TZID:America/New_York
BEGIN:DAYLIGHT
TZOFFSETFROM:-0500
TZOFFSETTO:-0400
TZNAME:EDT
DTSTART:20250309T070000
END:DAYLIGHT
BEGIN:STANDARD
TZOFFSETFROM:-0400
TZOFFSETTO:-0500
TZNAME:EST
DTSTART:20251102T060000
END:STANDARD
BEGIN:DAYLIGHT
TZOFFSETFROM:-0500
TZOFFSETTO:-0400
TZNAME:EDT
DTSTART:20260308T070000
END:DAYLIGHT
BEGIN:STANDARD
TZOFFSETFROM:-0400
TZOFFSETTO:-0500
TZNAME:EST
DTSTART:20261101T060000
END:STANDARD
BEGIN:DAYLIGHT
TZOFFSETFROM:-0500
TZOFFSETTO:-0400
TZNAME:EDT
DTSTART:20270314T070000
END:DAYLIGHT
BEGIN:STANDARD
TZOFFSETFROM:-0400
TZOFFSETTO:-0500
TZNAME:EST
DTSTART:20271107T060000
END:STANDARD
END:VTIMEZONE
BEGIN:VEVENT
DTSTART;TZID=America/New_York:20260501T083000
DTEND;TZID=America/New_York:20260501T094500
DTSTAMP:20260425T001309
CREATED:20260404T234527Z
LAST-MODIFIED:20260404T234828Z
UID:10002519-1777624200-1777628700@edgedistrict.org
SUMMARY:Insights Club
DESCRIPTION:EDGE Insights Club\nMembers Only Business Networking & Idea Exchange\n1st Friday (M&M Gaming) 2nd Friday (spARK Labs) 3rd Friday (Connect St. Pete) 4th Friday (Moxy Hotel) 5th Friday No Meeting\nAfternoon meeting held at Webb City starting at 3:00PM. \nThe EDGE Insights Club is a dynamic\, members-only gathering designed exclusively for 2026 EDGE Business District Association members and their invited guests. \nHeld twice each Friday\, these sessions bring together engaged business owners and leaders from across the district for real\, candid conversations about today’s business climate. From navigating economic trends to sharing marketing strategies and operational insights\, Insights Club is where collaboration drives momentum. \nWhat to expect: \n* Peer-to-peer discussions with fellow EDGE business members\n* Timely topics impacting local businesses and the district\n* Relationship-building in a trusted\, collaborative environment\n* Opportunities to share challenges\, ideas\, and solutions \nNot yet a member? Join the EDGE to be part of the conversation. Contact Director@EdgeDistrict.Org
URL:https://edgedistrict.org/edge-event/insights-club/2026-05-01/
CATEGORIES:Educational
END:VEVENT
BEGIN:VEVENT
DTSTART;TZID=America/New_York:20260501T170000
DTEND;TZID=America/New_York:20260501T190000
DTSTAMP:20260425T001309
CREATED:20260421T194710Z
LAST-MODIFIED:20260421T194710Z
UID:10003101-1777654800-1777662000@edgedistrict.org
SUMMARY:Bubbles\, Botox\, Bikinis & B12
DESCRIPTION:Bubbles\, Botox\, Bikinis & B12 \nGrab your girls and join us for the ultimate self-care evening. \nSip on complimentary bubbles while enjoying exclusive deals on Botox\, bikinis\, and B12 shots & services. It’s the perfect mix of beauty\, wellness\, and a little fun. \nMy Skin by Leah Michel will be offering Botox at just $10/unit.\nInVigorate IV will have specialty vitamin injections available at a discounted rate. \nMay 1\, 2026\n5:00 PM\nThe Lash Lounge\n304 3rd Street South\, St. Petersburg\, FL \nCome shop and support our amazing vendors:\nMy Skin by Leah Michel\nInVigorate IV\nDutch Fonzie
URL:https://edgedistrict.org/edge-event/bubbles-botox-bikinis-b12/
CATEGORIES:Eat & Drink
ATTACH;FMTTYPE=image/jpeg:https://edgedistrict.org/wp-content/uploads/2026/04/A3DB66FD-1762-4B4F-9AC8-5EB95D88AB0E.jpeg
END:VEVENT
END:VCALENDAR