BEGIN:VCALENDAR
VERSION:2.0
PRODID:-//EDGE District - ECPv6.15.18//NONSGML v1.0//EN
CALSCALE:GREGORIAN
METHOD:PUBLISH
X-ORIGINAL-URL:https://edgedistrict.org
X-WR-CALDESC:Events for EDGE District
REFRESH-INTERVAL;VALUE=DURATION:PT1H
X-Robots-Tag:noindex
X-PUBLISHED-TTL:PT1H
BEGIN:VTIMEZONE
TZID:America/New_York
BEGIN:DAYLIGHT
TZOFFSETFROM:-0500
TZOFFSETTO:-0400
TZNAME:EDT
DTSTART:20250309T070000
END:DAYLIGHT
BEGIN:STANDARD
TZOFFSETFROM:-0400
TZOFFSETTO:-0500
TZNAME:EST
DTSTART:20251102T060000
END:STANDARD
BEGIN:DAYLIGHT
TZOFFSETFROM:-0500
TZOFFSETTO:-0400
TZNAME:EDT
DTSTART:20260308T070000
END:DAYLIGHT
BEGIN:STANDARD
TZOFFSETFROM:-0400
TZOFFSETTO:-0500
TZNAME:EST
DTSTART:20261101T060000
END:STANDARD
BEGIN:DAYLIGHT
TZOFFSETFROM:-0500
TZOFFSETTO:-0400
TZNAME:EDT
DTSTART:20270314T070000
END:DAYLIGHT
BEGIN:STANDARD
TZOFFSETFROM:-0400
TZOFFSETTO:-0500
TZNAME:EST
DTSTART:20271107T060000
END:STANDARD
END:VTIMEZONE
BEGIN:VEVENT
DTSTART;TZID=America/New_York:20260512T080000
DTEND;TZID=America/New_York:20260512T090000
DTSTAMP:20260425T001306
CREATED:20260415T140150Z
LAST-MODIFIED:20260415T140150Z
UID:10002841-1778572800-1778576400@edgedistrict.org
SUMMARY:Coffee @ Connect
DESCRIPTION:We are opening the doors early every Tuesday for casual morning coffee networking here at Connect St. Pete starting this Tuesday from 8am – 9am! \nNo agenda. Just good coffee\, conversation\, and connection.\nThis will be the first of several Tuesday mornings\, so feel free to drop in whenever it fits your schedule. \nIf you’re nearby\, come say hello we would love to see you.
URL:https://edgedistrict.org/edge-event/coffee-connect/2026-05-12/
LOCATION:Connect St. Pete\, 1211 1st Ave N\, St. Petersburg\, 33705\, United States
ATTACH;FMTTYPE=image/jpeg:https://edgedistrict.org/wp-content/uploads/2026/04/Coffee_at_Connect_02.jpg
ORGANIZER;CN="Roger Curlin":MAILTO:director@edgedistrict.org
END:VEVENT
BEGIN:VEVENT
DTSTART;TZID=America/New_York:20260512T100000
DTEND;TZID=America/New_York:20260512T110000
DTSTAMP:20260425T001306
CREATED:20251111T221759Z
LAST-MODIFIED:20251112T192601Z
UID:10000957-1778580000-1778583600@edgedistrict.org
SUMMARY:EDGE Organization Committee
DESCRIPTION:
URL:https://edgedistrict.org/edge-event/edge-organization-committee/2026-05-12/
END:VEVENT
BEGIN:VEVENT
DTSTART;TZID=America/New_York:20260512T170000
DTEND;TZID=America/New_York:20260512T210000
DTSTAMP:20260425T001306
CREATED:20260421T124414Z
LAST-MODIFIED:20260421T124414Z
UID:10003100-1778605200-1778619600@edgedistrict.org
SUMMARY:WESTCARE Dine for a Cause at Hawker's
DESCRIPTION:How It Works:\nDine-in between 5:00 and 9:00 pm. A portion of your entire check (both food and\nbeverage) will be donated to support our mission of Uplifting the Human Spirit.\nBring your friends\, family\, and colleagues—every meal makes a difference! \nYour support helps us:\nProvide behavioral health and substance use treatment and recovery services. Support individuals and their families throughout treatment and recovery. Empower individuals to build healthier\, more productive lives while creating brighter futures.
URL:https://edgedistrict.org/edge-event/westcare-dine-for-a-cause-at-hawkers/
ATTACH;FMTTYPE=application/pdf:https://edgedistrict.org/wp-content/uploads/2026/04/WCGC-FL-Dine-for-a-Cause-May.12.2026_04.10.2026-Final.pdf
END:VEVENT
END:VCALENDAR