BEGIN:VCALENDAR
VERSION:2.0
PRODID:-//EDGE District - ECPv6.15.18//NONSGML v1.0//EN
CALSCALE:GREGORIAN
METHOD:PUBLISH
X-WR-CALNAME:EDGE District
X-ORIGINAL-URL:https://edgedistrict.org
X-WR-CALDESC:Events for EDGE District
REFRESH-INTERVAL;VALUE=DURATION:PT1H
X-Robots-Tag:noindex
X-PUBLISHED-TTL:PT1H
BEGIN:VTIMEZONE
TZID:America/New_York
BEGIN:DAYLIGHT
TZOFFSETFROM:-0500
TZOFFSETTO:-0400
TZNAME:EDT
DTSTART:20290311T070000
END:DAYLIGHT
BEGIN:STANDARD
TZOFFSETFROM:-0400
TZOFFSETTO:-0500
TZNAME:EST
DTSTART:20291104T060000
END:STANDARD
BEGIN:DAYLIGHT
TZOFFSETFROM:-0500
TZOFFSETTO:-0400
TZNAME:EDT
DTSTART:20300310T070000
END:DAYLIGHT
BEGIN:STANDARD
TZOFFSETFROM:-0400
TZOFFSETTO:-0500
TZNAME:EST
DTSTART:20301103T060000
END:STANDARD
BEGIN:DAYLIGHT
TZOFFSETFROM:-0500
TZOFFSETTO:-0400
TZNAME:EDT
DTSTART:20310309T070000
END:DAYLIGHT
BEGIN:STANDARD
TZOFFSETFROM:-0400
TZOFFSETTO:-0500
TZNAME:EST
DTSTART:20311102T060000
END:STANDARD
END:VTIMEZONE
BEGIN:VEVENT
DTSTART;TZID=America/New_York:20300711T090000
DTEND;TZID=America/New_York:20300711T100000
DTSTAMP:20260422T210945
CREATED:20251111T222308Z
LAST-MODIFIED:20251111T222342Z
UID:10001125-1909990800-1909994400@edgedistrict.org
SUMMARY:EDGE Economic Vitality & Design Committee
DESCRIPTION:
URL:https://edgedistrict.org/edge-event/edge-economic-vitality-design-committee/2030-07-11/
END:VEVENT
BEGIN:VEVENT
DTSTART;TZID=America/New_York:20300711T120000
DTEND;TZID=America/New_York:20300711T130000
DTSTAMP:20260422T210945
CREATED:20260129T155650Z
LAST-MODIFIED:20260309T144908Z
UID:10002484-1910001600-1910005200@edgedistrict.org
SUMMARY:EDGE Walk & Talk Community Stroll
DESCRIPTION:Join us the second Thursday of each month (October – May) for a casual stroll through the EDGE District led by our Executive Director\, Nicole Waters. She will share information about the history\, present\, and future of the EDGE while walkers have a change to mingle with neighbors and business owners alike.
URL:https://edgedistrict.org/edge-event/edge-walking-tour-1-hour-presented-by-suncoast-credit-union/2030-07-11/
ATTACH;FMTTYPE=image/jpeg:https://edgedistrict.org/wp-content/uploads/2026/01/IMG_0028-scaled.jpg
END:VEVENT
END:VCALENDAR