BEGIN:VCALENDAR
VERSION:2.0
PRODID:-//EDGE District - ECPv6.15.18//NONSGML v1.0//EN
CALSCALE:GREGORIAN
METHOD:PUBLISH
X-ORIGINAL-URL:https://edgedistrict.org
X-WR-CALDESC:Events for EDGE District
REFRESH-INTERVAL;VALUE=DURATION:PT1H
X-Robots-Tag:noindex
X-PUBLISHED-TTL:PT1H
BEGIN:VTIMEZONE
TZID:America/New_York
BEGIN:DAYLIGHT
TZOFFSETFROM:-0500
TZOFFSETTO:-0400
TZNAME:EDT
DTSTART:20240310T070000
END:DAYLIGHT
BEGIN:STANDARD
TZOFFSETFROM:-0400
TZOFFSETTO:-0500
TZNAME:EST
DTSTART:20241103T060000
END:STANDARD
BEGIN:DAYLIGHT
TZOFFSETFROM:-0500
TZOFFSETTO:-0400
TZNAME:EDT
DTSTART:20250309T070000
END:DAYLIGHT
BEGIN:STANDARD
TZOFFSETFROM:-0400
TZOFFSETTO:-0500
TZNAME:EST
DTSTART:20251102T060000
END:STANDARD
BEGIN:DAYLIGHT
TZOFFSETFROM:-0500
TZOFFSETTO:-0400
TZNAME:EDT
DTSTART:20260308T070000
END:DAYLIGHT
BEGIN:STANDARD
TZOFFSETFROM:-0400
TZOFFSETTO:-0500
TZNAME:EST
DTSTART:20261101T060000
END:STANDARD
END:VTIMEZONE
BEGIN:VEVENT
DTSTART;TZID=America/New_York:20250515T191500
DTEND;TZID=America/New_York:20250515T203000
DTSTAMP:20260424T051555
CREATED:20250507T010630Z
LAST-MODIFIED:20250507T010630Z
UID:10000371-1747336500-1747341000@edgedistrict.org
SUMMARY:Road to Zero Waste Town Hall
DESCRIPTION:
URL:https://edgedistrict.org/edge-event/road-to-zero-waste-town-hall/
LOCATION:Sans Market\, 1037 Central Ave\, St. Petersburg\, FL\, 33705
CATEGORIES:Educational
ATTACH;FMTTYPE=image/jpeg:https://edgedistrict.org/wp-content/uploads/2025/05/Town-Hall-Instagram.jpg
END:VEVENT
BEGIN:VEVENT
DTSTART;TZID=America/New_York:20250510T090000
DTEND;TZID=America/New_York:20250510T110000
DTSTAMP:20260424T051555
CREATED:20250430T014032Z
LAST-MODIFIED:20250430T014032Z
UID:10000364-1746867600-1746874800@edgedistrict.org
SUMMARY:Resonance Flow: Yoga\, Sound Bowls & Brunch
DESCRIPTION:
URL:https://edgedistrict.org/edge-event/resonance-flow-yoga-sound-bowls-brunch/
LOCATION:15th Street Farm\, 342 15th St. N\, Saint Petersburg\, FL\, 33705\, United States
CATEGORIES:Eat & Drink,Educational
ATTACH;FMTTYPE=image/png:https://edgedistrict.org/wp-content/uploads/2025/04/Screenshot-2025-04-29-at-4.58.57 PM.png
END:VEVENT
BEGIN:VEVENT
DTSTART;TZID=America/New_York:20250507T150000
DTEND;TZID=America/New_York:20250507T170000
DTSTAMP:20260424T051555
CREATED:20250501T204604Z
LAST-MODIFIED:20250501T204655Z
UID:10000367-1746630000-1746637200@edgedistrict.org
SUMMARY:Vision to Action Virtual Workshop
DESCRIPTION:
URL:https://edgedistrict.org/edge-event/vision-to-action-virtual-workshop/
CATEGORIES:Educational
ATTACH;FMTTYPE=image/png:https://edgedistrict.org/wp-content/uploads/2025/05/Vision-to-Action-VIRTUAL-Header.png
END:VEVENT
BEGIN:VEVENT
DTSTART;TZID=America/New_York:20250506T100000
DTEND;TZID=America/New_York:20250506T120000
DTSTAMP:20260424T051555
CREATED:20250422T141510Z
LAST-MODIFIED:20250422T141918Z
UID:10000354-1746525600-1746532800@edgedistrict.org
SUMMARY:Free Vision to Action Workshop
DESCRIPTION:
URL:https://edgedistrict.org/edge-event/free-vision-to-action-workshop/
LOCATION:Flagship Bank\, 965 Central Avenue\, St Petersburg\, 33705\, United States
CATEGORIES:Educational
ATTACH;FMTTYPE=image/png:https://edgedistrict.org/wp-content/uploads/2025/04/Vision-to-Action-Header-1.png
END:VEVENT
BEGIN:VEVENT
DTSTART;TZID=America/New_York:20250504T160000
DTEND;TZID=America/New_York:20250504T180000
DTSTAMP:20260424T051555
CREATED:20250430T014650Z
LAST-MODIFIED:20250501T131309Z
UID:10000361-1746374400-1746381600@edgedistrict.org
SUMMARY:Art of Organic Cooking
DESCRIPTION:
URL:https://edgedistrict.org/edge-event/discover-the-art-of-organic-cooking/2025-05-04/
LOCATION:15th Street Farm\, 342 15th St. N\, Saint Petersburg\, FL\, 33705\, United States
CATEGORIES:Eat & Drink,Educational
ATTACH;FMTTYPE=image/jpeg:https://edgedistrict.org/wp-content/uploads/2025/04/Chef-David-07-scaled.jpg
END:VEVENT
END:VCALENDAR