BEGIN:VCALENDAR
VERSION:2.0
PRODID:-//EDGE District - ECPv6.15.18//NONSGML v1.0//EN
CALSCALE:GREGORIAN
METHOD:PUBLISH
X-ORIGINAL-URL:https://edgedistrict.org
X-WR-CALDESC:Events for EDGE District
REFRESH-INTERVAL;VALUE=DURATION:PT1H
X-Robots-Tag:noindex
X-PUBLISHED-TTL:PT1H
BEGIN:VTIMEZONE
TZID:America/New_York
BEGIN:DAYLIGHT
TZOFFSETFROM:-0500
TZOFFSETTO:-0400
TZNAME:EDT
DTSTART:20240310T070000
END:DAYLIGHT
BEGIN:STANDARD
TZOFFSETFROM:-0400
TZOFFSETTO:-0500
TZNAME:EST
DTSTART:20241103T060000
END:STANDARD
BEGIN:DAYLIGHT
TZOFFSETFROM:-0500
TZOFFSETTO:-0400
TZNAME:EDT
DTSTART:20250309T070000
END:DAYLIGHT
BEGIN:STANDARD
TZOFFSETFROM:-0400
TZOFFSETTO:-0500
TZNAME:EST
DTSTART:20251102T060000
END:STANDARD
BEGIN:DAYLIGHT
TZOFFSETFROM:-0500
TZOFFSETTO:-0400
TZNAME:EDT
DTSTART:20260308T070000
END:DAYLIGHT
BEGIN:STANDARD
TZOFFSETFROM:-0400
TZOFFSETTO:-0500
TZNAME:EST
DTSTART:20261101T060000
END:STANDARD
BEGIN:DAYLIGHT
TZOFFSETFROM:-0500
TZOFFSETTO:-0400
TZNAME:EDT
DTSTART:20270314T070000
END:DAYLIGHT
BEGIN:STANDARD
TZOFFSETFROM:-0400
TZOFFSETTO:-0500
TZNAME:EST
DTSTART:20271107T060000
END:STANDARD
END:VTIMEZONE
BEGIN:VEVENT
DTSTART;TZID=America/New_York:20260417T130000
DTEND;TZID=America/New_York:20260417T143000
DTSTAMP:20260423T200731
CREATED:20260415T140258Z
LAST-MODIFIED:20260415T140258Z
UID:10002837-1776430800-1776436200@edgedistrict.org
SUMMARY:Sun Leaders #57: Resilience in Hospitality (Featuring Adriana Eraso)
DESCRIPTION:Presentation Topic: Resilience\nFeatured Speaker: Adriana Eraso (CoHatch) \nMeeting Location:\nConnect St. Pete\n1211 1st Ave. N\, Suite 210\nSt. Petersburg\, FL 33705 \nBecome a Sun Leaders Member:\nVisit our website at www.sunleaders.org\nListen to The Sun Leaders Podcast\nJoin the Sun Leaders Facebook Group
URL:https://edgedistrict.org/edge-event/sun-leaders-57-resilience-in-hospitality-featuring-adriana-eraso/
LOCATION:Connect St. Pete\, 1211 1st Ave N\, St. Petersburg\, 33705\, United States
CATEGORIES:Educational
ATTACH;FMTTYPE=image/jpeg:https://edgedistrict.org/wp-content/uploads/2026/04/SunLeaders_Facebook_Event_Header_01.jpg
ORGANIZER;CN="Roger Curlin":MAILTO:director@edgedistrict.org
END:VEVENT
BEGIN:VEVENT
DTSTART;TZID=America/New_York:20260417T083000
DTEND;TZID=America/New_York:20260417T094500
DTSTAMP:20260423T200731
CREATED:20260404T234527Z
LAST-MODIFIED:20260404T234828Z
UID:10002517-1776414600-1776419100@edgedistrict.org
SUMMARY:Insights Club
DESCRIPTION:EDGE Insights Club\nMembers Only Business Networking & Idea Exchange\n1st Friday (M&M Gaming) 2nd Friday (spARK Labs) 3rd Friday (Connect St. Pete) 4th Friday (Moxy Hotel) 5th Friday No Meeting\nAfternoon meeting held at Webb City starting at 3:00PM. \nThe EDGE Insights Club is a dynamic\, members-only gathering designed exclusively for 2026 EDGE Business District Association members and their invited guests. \nHeld twice each Friday\, these sessions bring together engaged business owners and leaders from across the district for real\, candid conversations about today’s business climate. From navigating economic trends to sharing marketing strategies and operational insights\, Insights Club is where collaboration drives momentum. \nWhat to expect: \n* Peer-to-peer discussions with fellow EDGE business members\n* Timely topics impacting local businesses and the district\n* Relationship-building in a trusted\, collaborative environment\n* Opportunities to share challenges\, ideas\, and solutions \nNot yet a member? Join the EDGE to be part of the conversation. Contact Director@EdgeDistrict.Org
URL:https://edgedistrict.org/edge-event/insights-club/2026-04-17/
CATEGORIES:Educational
END:VEVENT
BEGIN:VEVENT
DTSTART;TZID=America/New_York:20260410T150000
DTEND;TZID=America/New_York:20260410T161500
DTSTAMP:20260423T200731
CREATED:20260404T234527Z
LAST-MODIFIED:20260404T234828Z
UID:10002516-1775833200-1775837700@edgedistrict.org
SUMMARY:Insights Club
DESCRIPTION:EDGE Insights Club\nMembers Only Business Networking & Idea Exchange\n1st Friday (M&M Gaming) 2nd Friday (spARK Labs) 3rd Friday (Connect St. Pete) 4th Friday (Moxy Hotel) 5th Friday No Meeting\nAfternoon meeting held at Webb City starting at 3:00PM. \nThe EDGE Insights Club is a dynamic\, members-only gathering designed exclusively for 2026 EDGE Business District Association members and their invited guests. \nHeld twice each Friday\, these sessions bring together engaged business owners and leaders from across the district for real\, candid conversations about today’s business climate. From navigating economic trends to sharing marketing strategies and operational insights\, Insights Club is where collaboration drives momentum. \nWhat to expect: \n* Peer-to-peer discussions with fellow EDGE business members\n* Timely topics impacting local businesses and the district\n* Relationship-building in a trusted\, collaborative environment\n* Opportunities to share challenges\, ideas\, and solutions \nNot yet a member? Join the EDGE to be part of the conversation. Contact Director@EdgeDistrict.Org
URL:https://edgedistrict.org/edge-event/insights-club/2026-04-10/2/
CATEGORIES:Educational
END:VEVENT
BEGIN:VEVENT
DTSTART;TZID=America/New_York:20260410T083000
DTEND;TZID=America/New_York:20260410T094500
DTSTAMP:20260423T200731
CREATED:20260404T234527Z
LAST-MODIFIED:20260404T234828Z
UID:10002515-1775809800-1775814300@edgedistrict.org
SUMMARY:Insights Club
DESCRIPTION:EDGE Insights Club\nMembers Only Business Networking & Idea Exchange\n1st Friday (M&M Gaming) 2nd Friday (spARK Labs) 3rd Friday (Connect St. Pete) 4th Friday (Moxy Hotel) 5th Friday No Meeting\nAfternoon meeting held at Webb City starting at 3:00PM. \nThe EDGE Insights Club is a dynamic\, members-only gathering designed exclusively for 2026 EDGE Business District Association members and their invited guests. \nHeld twice each Friday\, these sessions bring together engaged business owners and leaders from across the district for real\, candid conversations about today’s business climate. From navigating economic trends to sharing marketing strategies and operational insights\, Insights Club is where collaboration drives momentum. \nWhat to expect: \n* Peer-to-peer discussions with fellow EDGE business members\n* Timely topics impacting local businesses and the district\n* Relationship-building in a trusted\, collaborative environment\n* Opportunities to share challenges\, ideas\, and solutions \nNot yet a member? Join the EDGE to be part of the conversation. Contact Director@EdgeDistrict.Org
URL:https://edgedistrict.org/edge-event/insights-club/2026-04-10/1/
CATEGORIES:Educational
END:VEVENT
BEGIN:VEVENT
DTSTART;TZID=America/New_York:20260328T090000
DTEND;TZID=America/New_York:20260328T130000
DTSTAMP:20260423T200731
CREATED:20260125T225918Z
LAST-MODIFIED:20260125T225918Z
UID:10002428-1774688400-1774702800@edgedistrict.org
SUMMARY:Protect Your Money | Learn In Community
DESCRIPTION:
URL:https://edgedistrict.org/edge-event/protect-your-money-learn-in-community/
LOCATION:Suncoast Credit Union\, 1022 Central Ave\, St. Petersburg\, FL\, 33705\, United States
CATEGORIES:Educational
ATTACH;FMTTYPE=image/png:https://edgedistrict.org/wp-content/uploads/2026/01/SCU-Protect-Your-Money-2_2026.png
END:VEVENT
BEGIN:VEVENT
DTSTART;TZID=America/New_York:20260319T193000
DTEND;TZID=America/New_York:20260319T203000
DTSTAMP:20260423T200731
CREATED:20260211T020043Z
LAST-MODIFIED:20260211T020043Z
UID:10002498-1773948600-1773952200@edgedistrict.org
SUMMARY:Liquid Soap Making Class
DESCRIPTION:Thursday\, March 19th 7:30pm-8:30pm \n@ Sans Market 1037 Central Ave. \nJoin Rachel from Little Tree Homestead as she shares how to make your own liquid soap (the easy way) \n-Learn the science behind soap making \n-Step-by-step soap making demonstration \n-Scent your own liquid soap with essential oils \n-Q&A \nBONUS: Take home your own soap and before you leave the class choose from a variety of essential oils to scent and personalize your soap \nTickets are $25 and non-refundable. Half of the ticket proceeds will be donated to the Little Tree Homestead non-profit so they can continue to educate the community.
URL:https://edgedistrict.org/edge-event/liquid-soap-making-class/
LOCATION:Sans Market\, 1037 Central Ave\, St. Petersburg\, FL\, 33705
CATEGORIES:Educational
ATTACH;FMTTYPE=image/jpeg:https://edgedistrict.org/wp-content/uploads/2026/02/Instagram-Posts-33.jpg
ORGANIZER;CN="Roger Curlin":MAILTO:director@edgedistrict.org
END:VEVENT
BEGIN:VEVENT
DTSTART;TZID=America/New_York:20260312T193000
DTEND;TZID=America/New_York:20260312T203000
DTSTAMP:20260423T200731
CREATED:20260211T020111Z
LAST-MODIFIED:20260211T020111Z
UID:10002497-1773343800-1773347400@edgedistrict.org
SUMMARY:Florida Spring Gardening 101
DESCRIPTION:Thursday\, March 12th 7:30-8:30pm \n@ Sans Market 1037 Central Ave \nLearn from local veggie gardening expert Desiree’ Sims of Peas & Love Edible Gardening. \n-Best practices for planning your garden \n-What vegetables grow best in the Florida spring climate \n-Florida gardening tips + tricks for successful growing \nPlus take home a spring variety seed packet to help get you started on your growing journey! \nTickets are $20 and are non-refundable
URL:https://edgedistrict.org/edge-event/florida-spring-gardening-101/
LOCATION:Sans Market\, 1037 Central Ave\, St. Petersburg\, FL\, 33705
CATEGORIES:Educational
ATTACH;FMTTYPE=image/jpeg:https://edgedistrict.org/wp-content/uploads/2026/02/Instagram-Posts-32.jpg
ORGANIZER;CN="Roger Curlin":MAILTO:director@edgedistrict.org
END:VEVENT
BEGIN:VEVENT
DTSTART;TZID=America/New_York:20260305T170000
DTEND;TZID=America/New_York:20260305T190000
DTSTAMP:20260423T200731
CREATED:20260204T181749Z
LAST-MODIFIED:20260204T181942Z
UID:10002496-1772730000-1772737200@edgedistrict.org
SUMMARY:Brick Pitch
DESCRIPTION:St. Pete Brick Pitch\nThursday\, March 5\, 2026 (5:00 PM – 7:30 PM) (EST) \nSt. Pete Pitch Night is back with a special Brick Pitch edition! Brick Pitch is put on ﻿by The Greenhouse: St. Petersburg’s front-door to business growth comprised of an expert team from the City of St. Petersburg and St. Petersburg Area Chamber of Commerce. We provide business owners and entrepreneurs with the education\, resources and assistance necessary to thrive in the local economy.  \nWHAT TO EXPECT | Six selected entrepreneurs will compete live at Brick Pitch for cash prizes and business-building support.\nThis program is for business owners who are planning to open a brick-and-mortar location or move their existing business into a physical space. We want to support entrepreneurs who are ready to take that next step and need guidance\, funding\, or resources to make it happen.
URL:https://edgedistrict.org/edge-event/brick-pitch/
LOCATION:St. Pete Opera\, 2145 1st Ave S.\, Saint Petersburg\, FL\, 33712\, United States
CATEGORIES:Educational
ATTACH;FMTTYPE=image/png:https://edgedistrict.org/wp-content/uploads/2026/02/brickPicture1.png
END:VEVENT
BEGIN:VEVENT
DTSTART;TZID=America/New_York:20260226T193000
DTEND;TZID=America/New_York:20260226T203000
DTSTAMP:20260423T200731
CREATED:20260113T184827Z
LAST-MODIFIED:20260113T184827Z
UID:10002426-1772134200-1772137800@edgedistrict.org
SUMMARY:Morning Meal Prep 101
DESCRIPTION:Mornings often feel rushed\, inconsistent\, or like something we just push through — and that can set the tone for the entire day. \nLed by local nutritionist Jeniffer Alburquerque\, this class is a relaxed\, conversational cooking demonstration and tasting experience designed to help you start your day feeling full\, energized\, and focused.  \nWe’ll talk about simple make-ahead breakfasts\, gentle morning habits\, and small mindset shifts that make nourishing yourself feel easier and more natural\, not forced or overwhelming. \n-Watch 3 easy breakfast meal prep demonstrations \n-Learn recipes to keep you full\, focused & energized \n-Advice for food storage for extra freshness \n-Enjoy samples of each meal \nPlus after the class get an email with all the recipes to try yourself! \nTickets are $35. Please note that tickets are non-refundable.
URL:https://edgedistrict.org/edge-event/morning-meal-prep-101/
LOCATION:Sans Market\, 1037 Central Ave\, St. Petersburg\, FL\, 33705
CATEGORIES:Educational
ATTACH;FMTTYPE=image/jpeg:https://edgedistrict.org/wp-content/uploads/2026/01/Instagram-Posts-28.jpg
END:VEVENT
BEGIN:VEVENT
DTSTART;TZID=America/New_York:20260207T100000
DTEND;TZID=America/New_York:20260207T150000
DTSTAMP:20260423T200731
CREATED:20260112T183521Z
LAST-MODIFIED:20260112T183521Z
UID:10002423-1770458400-1770476400@edgedistrict.org
SUMMARY:The 2026 Health & Happiness Summit
DESCRIPTION:We are so excited to announce the first ever “Health & Happiness Summit” happening on February 7 here at Connect St. Pete! \nAs part of the 2026 Year of Happiness\, this summit brings together a curated lineup of wellness professionals who each address a different layer of human well-being.\nFrom holistic chiropractic and biohacking technology to Reiki attunement and power yoga\, this day is designed to empower you to reset\, recalibrate\, and realign at the start of the new year and beyond. \nExperts in 4 different health modalities will present and give live demos all in one day: \n– Holistic Chiropractic (w/ Dr. Hamad Shirazi​\, CEO of Shirazi Wellness)\n– BioHacking Technology (w/ Mike Legel\, Co-Owner of First Alternative Therapies)\n– Reiki Attunement (w/ Hande Naaman\, CEO of LunaRise)\n– Power Yoga (w/ Carrington Roberts\, Owner of SunState Yoga) \nHosted by Adam Peters\, The Happiness Ambassador \nLocation: Connect St. Pete\nTime: 10am – 3pm\nTicket Price: $50 per person\n* Lunch is included!
URL:https://edgedistrict.org/edge-event/the-2026-health-happiness-summit/
LOCATION:Connect St. Pete\, 1211 1st Ave N\, St. Petersburg\, 33705\, United States
CATEGORIES:Educational
ATTACH;FMTTYPE=image/jpeg:https://edgedistrict.org/wp-content/uploads/2026/01/HEALTH_HAPPINESS_SUMMIT_2025_at-Connect-St-Pete.jpg
ORGANIZER;CN="Roger Curlin":MAILTO:director@edgedistrict.org
END:VEVENT
BEGIN:VEVENT
DTSTART;TZID=America/New_York:20260129T193000
DTEND;TZID=America/New_York:20260129T203000
DTSTAMP:20260423T200731
CREATED:20260112T183754Z
LAST-MODIFIED:20260112T183754Z
UID:10002422-1769715000-1769718600@edgedistrict.org
SUMMARY:Town Hall: Microplastics In Tampa Bay What We Know + How You Can Help
DESCRIPTION:January 29th 7:30pm – 8:30pm \n@ Sans Market 1037 Central Ave. \nGuest Speakers: Amy Siuda and Shannon Gowans\, Eckerd College Professors of Marine Science and devolopers of the Remora App used to track single use plastic & collect data for policy change \n-Learn about the Microplastics in Tampa Bay monitoring system + hear about results + learn how you can help \n-Microplastics Q&A \n-Engage with like-minded people \n-*BYOC (bring your own chair) since seats are limited \nThis is a FREE event\, but we do ask that you RSVP in advance so we have an accurate headcount.
URL:https://edgedistrict.org/edge-event/town-hall-microplastics-in-tampa-bay-what-we-know-how-you-can-help/
LOCATION:Sans Market\, 1037 Central Ave\, St. Petersburg\, FL\, 33705
CATEGORIES:Educational
ATTACH;FMTTYPE=image/jpeg:https://edgedistrict.org/wp-content/uploads/2026/01/Instagram-Posts-23.jpg
END:VEVENT
BEGIN:VEVENT
DTSTART;TZID=America/New_York:20260122T193000
DTEND;TZID=America/New_York:20260122T203000
DTSTAMP:20260423T200731
CREATED:20260112T183836Z
LAST-MODIFIED:20260211T015837Z
UID:10002421-1769110200-1769113800@edgedistrict.org
SUMMARY:Focaccia Class
DESCRIPTION:Join us for a Fresh Focaccia Class to learn how to make your own delicious\, beginner-friendly\, and versatile focaccia dough led by @doughsbycat \nThursday January 22nd 7:30 – 8:30 PM \n@ Sans Market 1037 Central Ave. \n-Learn how to use ingredients\, time and temperature to create different doughs\, flavors\, and results \n-Get creative with fresh herbs\, spices\, and fresh produce to season and personalize your focaccia \n-Take home your very own ready-to-bake dough\, recipe card\, and local herb bundle \nTickets are $35 and are non-refundable. Please note that spaces are limited for this event.
URL:https://edgedistrict.org/edge-event/focaccia-class/
LOCATION:Sans Market\, 1037 Central Ave\, St. Petersburg\, FL\, 33705
CATEGORIES:Educational
ATTACH;FMTTYPE=image/jpeg:https://edgedistrict.org/wp-content/uploads/2026/01/Instagram-Posts-24.jpg
END:VEVENT
BEGIN:VEVENT
DTSTART;TZID=America/New_York:20260113T183000
DTEND;TZID=America/New_York:20260113T193000
DTSTAMP:20260423T200731
CREATED:20251207T001412Z
LAST-MODIFIED:20251207T001412Z
UID:10002348-1768329000-1768332600@edgedistrict.org
SUMMARY:"Let's Talk Taxes"
DESCRIPTION:
URL:https://edgedistrict.org/edge-event/lets-talk-taxes/
CATEGORIES:Educational
ATTACH;FMTTYPE=image/png:https://edgedistrict.org/wp-content/uploads/2025/12/CFG-All-About-Tax-Education-Series-v01.13.2026.png
ORGANIZER;CN="Roger Curlin":MAILTO:director@edgedistrict.org
END:VEVENT
BEGIN:VEVENT
DTSTART;TZID=America/New_York:20251218T193000
DTEND;TZID=America/New_York:20251218T203000
DTSTAMP:20260423T200731
CREATED:20251207T001259Z
LAST-MODIFIED:20251207T001259Z
UID:10002349-1766086200-1766089800@edgedistrict.org
SUMMARY:Holiday Sourdough Class
DESCRIPTION:
URL:https://edgedistrict.org/edge-event/holiday-sourdough-class/
LOCATION:Sans Market\, 1037 Central Ave\, St. Petersburg\, FL\, 33705
CATEGORIES:Educational
ATTACH;FMTTYPE=image/jpeg:https://edgedistrict.org/wp-content/uploads/2025/12/Instagram-Posts-25.jpg
END:VEVENT
BEGIN:VEVENT
DTSTART;TZID=America/New_York:20251213T090000
DTEND;TZID=America/New_York:20251213T130000
DTSTAMP:20260423T200731
CREATED:20251207T002247Z
LAST-MODIFIED:20251207T002247Z
UID:10002351-1765616400-1765630800@edgedistrict.org
SUMMARY:Borrow With A Budget
DESCRIPTION:
URL:https://edgedistrict.org/edge-event/borrow-with-a-budget-2/
LOCATION:Suncoast Credit Union\, 1022 Central Ave\, St. Petersburg\, FL\, 33705\, United States
CATEGORIES:Educational,Family-Friendly Activity
ATTACH;FMTTYPE=image/png:https://edgedistrict.org/wp-content/uploads/2025/12/Borrow-with-a-budget-2025.png
ORGANIZER;CN="Roger Curlin":MAILTO:director@edgedistrict.org
END:VEVENT
BEGIN:VEVENT
DTSTART;TZID=America/New_York:20251213T090000
DTEND;TZID=America/New_York:20251213T130000
DTSTAMP:20260423T200731
CREATED:20251105T232931Z
LAST-MODIFIED:20251105T232931Z
UID:10000891-1765616400-1765630800@edgedistrict.org
SUMMARY:Borrow With A Budget
DESCRIPTION:Learn about credit with your local Suncoast! Come listen to a short presentation\, ask questions\, and enjoy some snacks! Visit between 9am – 1pm.
URL:https://edgedistrict.org/edge-event/borrow-with-a-budget/
LOCATION:Suncoast Credit Union\, 1022 Central Ave\, St. Petersburg\, FL\, 33705\, United States
CATEGORIES:Educational
ATTACH;FMTTYPE=image/png:https://edgedistrict.org/wp-content/uploads/2025/11/Borrow-with-a-budget-SCU-12_251-REV1.png
END:VEVENT
BEGIN:VEVENT
DTSTART;TZID=America/New_York:20251211T193000
DTEND;TZID=America/New_York:20251211T203000
DTSTAMP:20260423T200731
CREATED:20251031T181307Z
LAST-MODIFIED:20251031T181307Z
UID:10000491-1765481400-1765485000@edgedistrict.org
SUMMARY:Wool Dryer Ball Workshop
DESCRIPTION:
URL:https://edgedistrict.org/edge-event/wool-dryer-ball-workshop/
LOCATION:Sans Market\, 1037 Central Ave\, St. Petersburg\, FL\, 33705
CATEGORIES:Educational
ATTACH;FMTTYPE=image/jpeg:https://edgedistrict.org/wp-content/uploads/2025/10/Instagram-Posts-19.jpg
END:VEVENT
BEGIN:VEVENT
DTSTART;TZID=America/New_York:20251103T160000
DTEND;TZID=America/New_York:20251103T200000
DTSTAMP:20260423T200731
CREATED:20251031T181031Z
LAST-MODIFIED:20251031T181031Z
UID:10000490-1762185600-1762200000@edgedistrict.org
SUMMARY:Connect St. Pete Grand Opening
DESCRIPTION:
URL:https://edgedistrict.org/edge-event/connect-st-pete-grand-opening/
LOCATION:Connect St. Pete\, 1211 1st Ave N\, St. Petersburg\, 33705\, United States
CATEGORIES:Educational
ATTACH;FMTTYPE=image/jpeg:https://edgedistrict.org/wp-content/uploads/2025/10/ConnectStPete_GrandOpening_Flyer_01_FRONT.jpg
END:VEVENT
BEGIN:VEVENT
DTSTART;TZID=America/New_York:20251004T180000
DTEND;TZID=America/New_York:20251004T210000
DTSTAMP:20260423T200731
CREATED:20251001T221439Z
LAST-MODIFIED:20251001T221439Z
UID:10000477-1759600800-1759611600@edgedistrict.org
SUMMARY:Farm-to-table Dinner
DESCRIPTION:
URL:https://edgedistrict.org/edge-event/farm-to-table-dinner/
LOCATION:15th Street Farm\, 342 15th St. N\, Saint Petersburg\, FL\, 33705\, United States
CATEGORIES:Art & Culture,Charity,Eat & Drink,Educational
ATTACH;FMTTYPE=image/jpeg:https://edgedistrict.org/wp-content/uploads/2025/10/eventbrite.jpg
END:VEVENT
BEGIN:VEVENT
DTSTART;TZID=America/New_York:20250911T160000
DTEND;TZID=America/New_York:20250911T210000
DTSTAMP:20260423T200731
CREATED:20250829T235820Z
LAST-MODIFIED:20250829T235820Z
UID:10000460-1757606400-1757624400@edgedistrict.org
SUMMARY:TEDx St Pete Women
DESCRIPTION:
URL:https://edgedistrict.org/edge-event/tedx-st-pete-women/
LOCATION:museum of fine arts\, 255 Beach Dr NE\, Saint Petersburg\, FL\, United States
CATEGORIES:Educational
END:VEVENT
BEGIN:VEVENT
DTSTART;TZID=America/New_York:20250814T193000
DTEND;TZID=America/New_York:20250814T203000
DTSTAMP:20260423T200731
CREATED:20250810T145257Z
LAST-MODIFIED:20250810T145307Z
UID:10000450-1755199800-1755203400@edgedistrict.org
SUMMARY:St. Pete Town Hall Series
DESCRIPTION:
URL:https://edgedistrict.org/edge-event/st-pete-town-hall-series-at-sans-market/
LOCATION:Sans Market\, 1037 Central Ave\, St. Petersburg\, FL\, 33705
CATEGORIES:Educational
ATTACH;FMTTYPE=image/jpeg:https://edgedistrict.org/wp-content/uploads/2025/08/Instagram-Posts-4.jpg
END:VEVENT
BEGIN:VEVENT
DTSTART;TZID=America/New_York:20250807T183000
DTEND;TZID=America/New_York:20250807T203000
DTSTAMP:20260423T200731
CREATED:20250717T134819Z
LAST-MODIFIED:20250717T134819Z
UID:10000429-1754591400-1754598600@edgedistrict.org
SUMMARY:Leading in Tune
DESCRIPTION:
URL:https://edgedistrict.org/edge-event/leading-in-tune/
LOCATION:15th Street Farm\, 342 15th St. N\, Saint Petersburg\, FL\, 33705\, United States
CATEGORIES:Art & Culture,Charity,Eat & Drink,Educational,Music & Nightlife
ATTACH;FMTTYPE=image/jpeg:https://edgedistrict.org/wp-content/uploads/2025/07/Javier-Pena.jpg
END:VEVENT
BEGIN:VEVENT
DTSTART;TZID=America/New_York:20250805T193000
DTEND;TZID=America/New_York:20250805T203000
DTSTAMP:20260423T200731
CREATED:20250722T172836Z
LAST-MODIFIED:20250722T172836Z
UID:10000440-1754422200-1754425800@edgedistrict.org
SUMMARY:Eco Trivia Night
DESCRIPTION:
URL:https://edgedistrict.org/edge-event/eco-trivia-night/
LOCATION:Sans Market\, 1037 Central Ave\, St. Petersburg\, FL\, 33705
CATEGORIES:Educational,Family-Friendly Activity,Shopping
ATTACH;FMTTYPE=image/jpeg:https://edgedistrict.org/wp-content/uploads/2025/07/Instagram-Posts-2.jpg
END:VEVENT
BEGIN:VEVENT
DTSTART;TZID=America/New_York:20250801T130000
DTEND;TZID=America/New_York:20250801T143000
DTSTAMP:20260423T200731
CREATED:20250729T123254Z
LAST-MODIFIED:20250729T123254Z
UID:10000443-1754053200-1754058600@edgedistrict.org
SUMMARY:Rising Tides Over Rival Threats
DESCRIPTION:
URL:https://edgedistrict.org/edge-event/rising-tides-over-rival-threats/
LOCATION:Webb’s City Cellar\, 1133 Baum Ave N\, St. Petersburg\, FL\, 33705\, United States
CATEGORIES:Educational
ATTACH;FMTTYPE=image/jpeg:https://edgedistrict.org/wp-content/uploads/2025/07/SunLeaders_Facebook_Event_Header_03-1.jpg
END:VEVENT
BEGIN:VEVENT
DTSTART;TZID=America/New_York:20250724T190000
DTEND;TZID=America/New_York:20250724T210000
DTSTAMP:20260423T200731
CREATED:20250619T204442Z
LAST-MODIFIED:20250619T204442Z
UID:10000412-1753383600-1753390800@edgedistrict.org
SUMMARY:Clothing + Jewelry Repair Workshop
DESCRIPTION:
URL:https://edgedistrict.org/edge-event/clothing-jewelry-repair-workshop/
LOCATION:Sans Market\, 1037 Central Ave\, St. Petersburg\, FL\, 33705
CATEGORIES:Educational
ATTACH;FMTTYPE=image/jpeg:https://edgedistrict.org/wp-content/uploads/2025/06/Clothing-Repair-Instagram-1.jpg
END:VEVENT
BEGIN:VEVENT
DTSTART;TZID=America/New_York:20250718T130000
DTEND;TZID=America/New_York:20250718T143000
DTSTAMP:20260423T200731
CREATED:20250715T172342Z
LAST-MODIFIED:20250715T172342Z
UID:10000427-1752843600-1752849000@edgedistrict.org
SUMMARY:Decisiveness (Featuring Whitney Smith)
DESCRIPTION:
URL:https://edgedistrict.org/edge-event/decisiveness-featuring-whitney-smith/
LOCATION:Webb’s City Cellar\, 1133 Baum Ave N\, St. Petersburg\, FL\, 33705\, United States
CATEGORIES:Educational
ATTACH;FMTTYPE=image/jpeg:https://edgedistrict.org/wp-content/uploads/2025/07/SunLeaders_Facebook_Event_Header_03.jpg
END:VEVENT
BEGIN:VEVENT
DTSTART;TZID=America/New_York:20250712T180000
DTEND;TZID=America/New_York:20250712T210000
DTSTAMP:20260423T200731
CREATED:20250625T225058Z
LAST-MODIFIED:20250625T225058Z
UID:10000415-1752343200-1752354000@edgedistrict.org
SUMMARY:Dining with Purpose
DESCRIPTION:
URL:https://edgedistrict.org/edge-event/dining-with-purpose/
LOCATION:15th Street Farm\, 342 15th St. N\, Saint Petersburg\, FL\, 33705\, United States
CATEGORIES:Art & Culture,Charity,Eat & Drink,Educational,Music & Nightlife
ATTACH;FMTTYPE=image/jpeg:https://edgedistrict.org/wp-content/uploads/2025/06/509316874_1113244224182359_4822355952879975930_n.jpg
END:VEVENT
BEGIN:VEVENT
DTSTART;TZID=America/New_York:20250710T193000
DTEND;TZID=America/New_York:20250710T203000
DTSTAMP:20260423T200731
CREATED:20250619T203930Z
LAST-MODIFIED:20250625T012116Z
UID:10000410-1752175800-1752179400@edgedistrict.org
SUMMARY:Scrappy Cooking Class
DESCRIPTION:
URL:https://edgedistrict.org/edge-event/scrappy-cooking-class/
LOCATION:Sans Market\, 1037 Central Ave\, St. Petersburg\, FL\, 33705
CATEGORIES:Eat & Drink,Educational
ATTACH;FMTTYPE=image/jpeg:https://edgedistrict.org/wp-content/uploads/2025/06/Scrappy-Cooking-Instagram.jpg
END:VEVENT
BEGIN:VEVENT
DTSTART;TZID=America/New_York:20250709T180000
DTEND;TZID=America/New_York:20250709T210000
DTSTAMP:20260423T200731
CREATED:20250625T224856Z
LAST-MODIFIED:20250625T224856Z
UID:10000414-1752084000-1752094800@edgedistrict.org
SUMMARY:Community Cooking Class
DESCRIPTION:
URL:https://edgedistrict.org/edge-event/community-cooking-class/
LOCATION:15th Street Farm\, 342 15th St. N\, Saint Petersburg\, FL\, 33705\, United States
CATEGORIES:Charity,Eat & Drink,Educational,Music & Nightlife
ATTACH;FMTTYPE=image/jpeg:https://edgedistrict.org/wp-content/uploads/2025/06/15TH-St-Farm-09.jpg
END:VEVENT
BEGIN:VEVENT
DTSTART;TZID=America/New_York:20250703T193000
DTEND;TZID=America/New_York:20250703T203000
DTSTAMP:20260423T200731
CREATED:20250619T193045Z
LAST-MODIFIED:20250619T193045Z
UID:10000409-1751571000-1751574600@edgedistrict.org
SUMMARY:Plastic Free Living 101
DESCRIPTION:
URL:https://edgedistrict.org/edge-event/plastic-free-living-101/
LOCATION:Sans Market\, 1037 Central Ave\, St. Petersburg\, FL\, 33705
CATEGORIES:Educational
ATTACH;FMTTYPE=image/jpeg:https://edgedistrict.org/wp-content/uploads/2025/06/plastic-free-swaps-Instagram.jpg
END:VEVENT
END:VCALENDAR