BEGIN:VCALENDAR
VERSION:2.0
PRODID:-//EDGE District - ECPv6.15.18//NONSGML v1.0//EN
CALSCALE:GREGORIAN
METHOD:PUBLISH
X-WR-CALNAME:EDGE District
X-ORIGINAL-URL:https://edgedistrict.org
X-WR-CALDESC:Events for EDGE District
REFRESH-INTERVAL;VALUE=DURATION:PT1H
X-Robots-Tag:noindex
X-PUBLISHED-TTL:PT1H
BEGIN:VTIMEZONE
TZID:America/New_York
BEGIN:DAYLIGHT
TZOFFSETFROM:-0500
TZOFFSETTO:-0400
TZNAME:EDT
DTSTART:20280312T070000
END:DAYLIGHT
BEGIN:STANDARD
TZOFFSETFROM:-0400
TZOFFSETTO:-0500
TZNAME:EST
DTSTART:20281105T060000
END:STANDARD
BEGIN:DAYLIGHT
TZOFFSETFROM:-0500
TZOFFSETTO:-0400
TZNAME:EDT
DTSTART:20290311T070000
END:DAYLIGHT
BEGIN:STANDARD
TZOFFSETFROM:-0400
TZOFFSETTO:-0500
TZNAME:EST
DTSTART:20291104T060000
END:STANDARD
BEGIN:DAYLIGHT
TZOFFSETFROM:-0500
TZOFFSETTO:-0400
TZNAME:EDT
DTSTART:20300310T070000
END:DAYLIGHT
BEGIN:STANDARD
TZOFFSETFROM:-0400
TZOFFSETTO:-0500
TZNAME:EST
DTSTART:20301103T060000
END:STANDARD
END:VTIMEZONE
BEGIN:VEVENT
DTSTART;TZID=America/New_York:20290112T083000
DTEND;TZID=America/New_York:20290112T094500
DTSTAMP:20260420T041052
CREATED:20260404T234527Z
LAST-MODIFIED:20260404T234828Z
UID:10002660-1862901000-1862905500@edgedistrict.org
SUMMARY:Insights Club
DESCRIPTION:EDGE Insights Club\nMembers Only Business Networking & Idea Exchange\n1st Friday (M&M Gaming) 2nd Friday (spARK Labs) 3rd Friday (Connect St. Pete) 4th Friday (Moxy Hotel) 5th Friday No Meeting\nAfternoon meeting held at Webb City starting at 3:00PM. \nThe EDGE Insights Club is a dynamic\, members-only gathering designed exclusively for 2026 EDGE Business District Association members and their invited guests. \nHeld twice each Friday\, these sessions bring together engaged business owners and leaders from across the district for real\, candid conversations about today’s business climate. From navigating economic trends to sharing marketing strategies and operational insights\, Insights Club is where collaboration drives momentum. \nWhat to expect: \n* Peer-to-peer discussions with fellow EDGE business members\n* Timely topics impacting local businesses and the district\n* Relationship-building in a trusted\, collaborative environment\n* Opportunities to share challenges\, ideas\, and solutions \nNot yet a member? Join the EDGE to be part of the conversation. Contact Director@EdgeDistrict.Org
URL:https://edgedistrict.org/edge-event/insights-club/2029-01-12/
CATEGORIES:Educational
END:VEVENT
BEGIN:VEVENT
DTSTART;TZID=America/New_York:20290116T080000
DTEND;TZID=America/New_York:20290116T090000
DTSTAMP:20260420T041052
CREATED:20260415T140150Z
LAST-MODIFIED:20260415T140150Z
UID:10002981-1863244800-1863248400@edgedistrict.org
SUMMARY:Coffee @ Connect
DESCRIPTION:We are opening the doors early every Tuesday for casual morning coffee networking here at Connect St. Pete starting this Tuesday from 8am – 9am! \nNo agenda. Just good coffee\, conversation\, and connection.\nThis will be the first of several Tuesday mornings\, so feel free to drop in whenever it fits your schedule. \nIf you’re nearby\, come say hello we would love to see you.
URL:https://edgedistrict.org/edge-event/coffee-connect/2029-01-16/
LOCATION:Connect St. Pete\, 1211 1st Ave N\, St. Petersburg\, 33705\, United States
ATTACH;FMTTYPE=image/jpeg:https://edgedistrict.org/wp-content/uploads/2026/04/Coffee_at_Connect_02.jpg
ORGANIZER;CN="Roger Curlin":MAILTO:director@edgedistrict.org
END:VEVENT
BEGIN:VEVENT
DTSTART;TZID=America/New_York:20290117T170000
DTEND;TZID=America/New_York:20290117T180000
DTSTAMP:20260420T041052
CREATED:20260415T140340Z
LAST-MODIFIED:20260415T140410Z
UID:10002810-1863363600-1863367200@edgedistrict.org
SUMMARY:Networking Night @ Connect
DESCRIPTION:Join us for Networking Night at Connect St. Pete\, a monthly gathering designed to help you meet the right people and actually walk away with something useful. \nIn this unique networking event\, we will guide a short\, intentional exercise during the event to help spark real connections and give you a tangible takeaway you can apply to your business right away. \nWhether you’re a business owner\, leader\, professional\, or just looking to get more connected in the St. Pete community\, this is a great place to plug in. \nOpen to the public. Come as you are. Leave with more than you came with. \nEvery third Wednesday \n5:00 pm – 6:00 pm
URL:https://edgedistrict.org/edge-event/networking-night-connect/2029-01-17/
LOCATION:Connect St. Pete\, 1211 1st Ave N\, St. Petersburg\, 33705\, United States
ATTACH;FMTTYPE=image/jpeg:https://edgedistrict.org/wp-content/uploads/2026/04/Networking-Night_at_Connect_02.jpg
ORGANIZER;CN="Roger Curlin":MAILTO:director@edgedistrict.org
END:VEVENT
BEGIN:VEVENT
DTSTART;TZID=America/New_York:20290118T190000
DTEND;TZID=America/New_York:20290118T210000
DTSTAMP:20260420T041052
CREATED:20250324T171407Z
LAST-MODIFIED:20250324T171407Z
UID:10000219-1863457200-1863464400@edgedistrict.org
SUMMARY:Trivia Night @ Grassroots
DESCRIPTION:
URL:https://edgedistrict.org/edge-event/trivia-night-grassroots/2029-01-18/
LOCATION:Grassroots Kava House\, 957 Central Ave.\, St. Petersburg\, FL\, 33705\, United States
CATEGORIES:Eat & Drink
END:VEVENT
BEGIN:VEVENT
DTSTART;TZID=America/New_York:20290119T083000
DTEND;TZID=America/New_York:20290119T094500
DTSTAMP:20260420T041052
CREATED:20260404T234527Z
LAST-MODIFIED:20260404T234828Z
UID:10002661-1863505800-1863510300@edgedistrict.org
SUMMARY:Insights Club
DESCRIPTION:EDGE Insights Club\nMembers Only Business Networking & Idea Exchange\n1st Friday (M&M Gaming) 2nd Friday (spARK Labs) 3rd Friday (Connect St. Pete) 4th Friday (Moxy Hotel) 5th Friday No Meeting\nAfternoon meeting held at Webb City starting at 3:00PM. \nThe EDGE Insights Club is a dynamic\, members-only gathering designed exclusively for 2026 EDGE Business District Association members and their invited guests. \nHeld twice each Friday\, these sessions bring together engaged business owners and leaders from across the district for real\, candid conversations about today’s business climate. From navigating economic trends to sharing marketing strategies and operational insights\, Insights Club is where collaboration drives momentum. \nWhat to expect: \n* Peer-to-peer discussions with fellow EDGE business members\n* Timely topics impacting local businesses and the district\n* Relationship-building in a trusted\, collaborative environment\n* Opportunities to share challenges\, ideas\, and solutions \nNot yet a member? Join the EDGE to be part of the conversation. Contact Director@EdgeDistrict.Org
URL:https://edgedistrict.org/edge-event/insights-club/2029-01-19/
CATEGORIES:Educational
END:VEVENT
BEGIN:VEVENT
DTSTART;TZID=America/New_York:20290123T080000
DTEND;TZID=America/New_York:20290123T090000
DTSTAMP:20260420T041052
CREATED:20260415T140150Z
LAST-MODIFIED:20260415T140150Z
UID:10002982-1863849600-1863853200@edgedistrict.org
SUMMARY:Coffee @ Connect
DESCRIPTION:We are opening the doors early every Tuesday for casual morning coffee networking here at Connect St. Pete starting this Tuesday from 8am – 9am! \nNo agenda. Just good coffee\, conversation\, and connection.\nThis will be the first of several Tuesday mornings\, so feel free to drop in whenever it fits your schedule. \nIf you’re nearby\, come say hello we would love to see you.
URL:https://edgedistrict.org/edge-event/coffee-connect/2029-01-23/
LOCATION:Connect St. Pete\, 1211 1st Ave N\, St. Petersburg\, 33705\, United States
ATTACH;FMTTYPE=image/jpeg:https://edgedistrict.org/wp-content/uploads/2026/04/Coffee_at_Connect_02.jpg
ORGANIZER;CN="Roger Curlin":MAILTO:director@edgedistrict.org
END:VEVENT
BEGIN:VEVENT
DTSTART;TZID=America/New_York:20290125T190000
DTEND;TZID=America/New_York:20290125T210000
DTSTAMP:20260420T041052
CREATED:20250324T171407Z
LAST-MODIFIED:20250324T171407Z
UID:10000220-1864062000-1864069200@edgedistrict.org
SUMMARY:Trivia Night @ Grassroots
DESCRIPTION:
URL:https://edgedistrict.org/edge-event/trivia-night-grassroots/2029-01-25/
LOCATION:Grassroots Kava House\, 957 Central Ave.\, St. Petersburg\, FL\, 33705\, United States
CATEGORIES:Eat & Drink
END:VEVENT
BEGIN:VEVENT
DTSTART;TZID=America/New_York:20290126T083000
DTEND;TZID=America/New_York:20290126T094500
DTSTAMP:20260420T041052
CREATED:20260404T234527Z
LAST-MODIFIED:20260404T234828Z
UID:10002662-1864110600-1864115100@edgedistrict.org
SUMMARY:Insights Club
DESCRIPTION:EDGE Insights Club\nMembers Only Business Networking & Idea Exchange\n1st Friday (M&M Gaming) 2nd Friday (spARK Labs) 3rd Friday (Connect St. Pete) 4th Friday (Moxy Hotel) 5th Friday No Meeting\nAfternoon meeting held at Webb City starting at 3:00PM. \nThe EDGE Insights Club is a dynamic\, members-only gathering designed exclusively for 2026 EDGE Business District Association members and their invited guests. \nHeld twice each Friday\, these sessions bring together engaged business owners and leaders from across the district for real\, candid conversations about today’s business climate. From navigating economic trends to sharing marketing strategies and operational insights\, Insights Club is where collaboration drives momentum. \nWhat to expect: \n* Peer-to-peer discussions with fellow EDGE business members\n* Timely topics impacting local businesses and the district\n* Relationship-building in a trusted\, collaborative environment\n* Opportunities to share challenges\, ideas\, and solutions \nNot yet a member? Join the EDGE to be part of the conversation. Contact Director@EdgeDistrict.Org
URL:https://edgedistrict.org/edge-event/insights-club/2029-01-26/
CATEGORIES:Educational
END:VEVENT
BEGIN:VEVENT
DTSTART;TZID=America/New_York:20290130T080000
DTEND;TZID=America/New_York:20290130T090000
DTSTAMP:20260420T041052
CREATED:20260415T140150Z
LAST-MODIFIED:20260415T140150Z
UID:10002983-1864454400-1864458000@edgedistrict.org
SUMMARY:Coffee @ Connect
DESCRIPTION:We are opening the doors early every Tuesday for casual morning coffee networking here at Connect St. Pete starting this Tuesday from 8am – 9am! \nNo agenda. Just good coffee\, conversation\, and connection.\nThis will be the first of several Tuesday mornings\, so feel free to drop in whenever it fits your schedule. \nIf you’re nearby\, come say hello we would love to see you.
URL:https://edgedistrict.org/edge-event/coffee-connect/2029-01-30/
LOCATION:Connect St. Pete\, 1211 1st Ave N\, St. Petersburg\, 33705\, United States
ATTACH;FMTTYPE=image/jpeg:https://edgedistrict.org/wp-content/uploads/2026/04/Coffee_at_Connect_02.jpg
ORGANIZER;CN="Roger Curlin":MAILTO:director@edgedistrict.org
END:VEVENT
BEGIN:VEVENT
DTSTART;TZID=America/New_York:20290201T190000
DTEND;TZID=America/New_York:20290201T210000
DTSTAMP:20260420T041052
CREATED:20250324T171407Z
LAST-MODIFIED:20250324T171407Z
UID:10000221-1864666800-1864674000@edgedistrict.org
SUMMARY:Trivia Night @ Grassroots
DESCRIPTION:
URL:https://edgedistrict.org/edge-event/trivia-night-grassroots/2029-02-01/
LOCATION:Grassroots Kava House\, 957 Central Ave.\, St. Petersburg\, FL\, 33705\, United States
CATEGORIES:Eat & Drink
END:VEVENT
BEGIN:VEVENT
DTSTART;TZID=America/New_York:20290202T083000
DTEND;TZID=America/New_York:20290202T094500
DTSTAMP:20260420T041052
CREATED:20260404T234527Z
LAST-MODIFIED:20260404T234828Z
UID:10002663-1864715400-1864719900@edgedistrict.org
SUMMARY:Insights Club
DESCRIPTION:EDGE Insights Club\nMembers Only Business Networking & Idea Exchange\n1st Friday (M&M Gaming) 2nd Friday (spARK Labs) 3rd Friday (Connect St. Pete) 4th Friday (Moxy Hotel) 5th Friday No Meeting\nAfternoon meeting held at Webb City starting at 3:00PM. \nThe EDGE Insights Club is a dynamic\, members-only gathering designed exclusively for 2026 EDGE Business District Association members and their invited guests. \nHeld twice each Friday\, these sessions bring together engaged business owners and leaders from across the district for real\, candid conversations about today’s business climate. From navigating economic trends to sharing marketing strategies and operational insights\, Insights Club is where collaboration drives momentum. \nWhat to expect: \n* Peer-to-peer discussions with fellow EDGE business members\n* Timely topics impacting local businesses and the district\n* Relationship-building in a trusted\, collaborative environment\n* Opportunities to share challenges\, ideas\, and solutions \nNot yet a member? Join the EDGE to be part of the conversation. Contact Director@EdgeDistrict.Org
URL:https://edgedistrict.org/edge-event/insights-club/2029-02-02/
CATEGORIES:Educational
END:VEVENT
BEGIN:VEVENT
DTSTART;TZID=America/New_York:20290205T190000
DTEND;TZID=America/New_York:20290205T210000
DTSTAMP:20260420T041052
CREATED:20250325T172825Z
LAST-MODIFIED:20250325T172922Z
UID:10000329-1865012400-1865019600@edgedistrict.org
SUMMARY:Mindful Men at Grassroots
DESCRIPTION:
URL:https://edgedistrict.org/edge-event/mindful-men-at-grassroots-kava-house/2029-02-05/
LOCATION:Grassroots Kava House\, 957 Central Ave.\, St. Petersburg\, FL\, 33705\, United States
CATEGORIES:Art & Culture
END:VEVENT
BEGIN:VEVENT
DTSTART;TZID=America/New_York:20290206T080000
DTEND;TZID=America/New_York:20290206T090000
DTSTAMP:20260420T041052
CREATED:20260415T140150Z
LAST-MODIFIED:20260415T140150Z
UID:10002984-1865059200-1865062800@edgedistrict.org
SUMMARY:Coffee @ Connect
DESCRIPTION:We are opening the doors early every Tuesday for casual morning coffee networking here at Connect St. Pete starting this Tuesday from 8am – 9am! \nNo agenda. Just good coffee\, conversation\, and connection.\nThis will be the first of several Tuesday mornings\, so feel free to drop in whenever it fits your schedule. \nIf you’re nearby\, come say hello we would love to see you.
URL:https://edgedistrict.org/edge-event/coffee-connect/2029-02-06/
LOCATION:Connect St. Pete\, 1211 1st Ave N\, St. Petersburg\, 33705\, United States
ATTACH;FMTTYPE=image/jpeg:https://edgedistrict.org/wp-content/uploads/2026/04/Coffee_at_Connect_02.jpg
ORGANIZER;CN="Roger Curlin":MAILTO:director@edgedistrict.org
END:VEVENT
BEGIN:VEVENT
DTSTART;TZID=America/New_York:20290208T090000
DTEND;TZID=America/New_York:20290208T100000
DTSTAMP:20260420T041052
CREATED:20251111T222308Z
LAST-MODIFIED:20251111T222342Z
UID:10001108-1865235600-1865239200@edgedistrict.org
SUMMARY:EDGE Economic Vitality & Design Committee
DESCRIPTION:
URL:https://edgedistrict.org/edge-event/edge-economic-vitality-design-committee/2029-02-08/
END:VEVENT
BEGIN:VEVENT
DTSTART;TZID=America/New_York:20290208T120000
DTEND;TZID=America/New_York:20290208T130000
DTSTAMP:20260420T041052
CREATED:20260129T155650Z
LAST-MODIFIED:20260309T144908Z
UID:10002467-1865246400-1865250000@edgedistrict.org
SUMMARY:EDGE Walk & Talk Community Stroll
DESCRIPTION:Join us the second Thursday of each month (October – May) for a casual stroll through the EDGE District led by our Executive Director\, Nicole Waters. She will share information about the history\, present\, and future of the EDGE while walkers have a change to mingle with neighbors and business owners alike.
URL:https://edgedistrict.org/edge-event/edge-walking-tour-1-hour-presented-by-suncoast-credit-union/2029-02-08/
ATTACH;FMTTYPE=image/jpeg:https://edgedistrict.org/wp-content/uploads/2026/01/IMG_0028-scaled.jpg
END:VEVENT
BEGIN:VEVENT
DTSTART;TZID=America/New_York:20290208T190000
DTEND;TZID=America/New_York:20290208T210000
DTSTAMP:20260420T041052
CREATED:20250324T171407Z
LAST-MODIFIED:20250324T171407Z
UID:10000222-1865271600-1865278800@edgedistrict.org
SUMMARY:Trivia Night @ Grassroots
DESCRIPTION:
URL:https://edgedistrict.org/edge-event/trivia-night-grassroots/2029-02-08/
LOCATION:Grassroots Kava House\, 957 Central Ave.\, St. Petersburg\, FL\, 33705\, United States
CATEGORIES:Eat & Drink
END:VEVENT
BEGIN:VEVENT
DTSTART;TZID=America/New_York:20290209T083000
DTEND;TZID=America/New_York:20290209T094500
DTSTAMP:20260420T041052
CREATED:20260404T234527Z
LAST-MODIFIED:20260404T234828Z
UID:10002664-1865320200-1865324700@edgedistrict.org
SUMMARY:Insights Club
DESCRIPTION:EDGE Insights Club\nMembers Only Business Networking & Idea Exchange\n1st Friday (M&M Gaming) 2nd Friday (spARK Labs) 3rd Friday (Connect St. Pete) 4th Friday (Moxy Hotel) 5th Friday No Meeting\nAfternoon meeting held at Webb City starting at 3:00PM. \nThe EDGE Insights Club is a dynamic\, members-only gathering designed exclusively for 2026 EDGE Business District Association members and their invited guests. \nHeld twice each Friday\, these sessions bring together engaged business owners and leaders from across the district for real\, candid conversations about today’s business climate. From navigating economic trends to sharing marketing strategies and operational insights\, Insights Club is where collaboration drives momentum. \nWhat to expect: \n* Peer-to-peer discussions with fellow EDGE business members\n* Timely topics impacting local businesses and the district\n* Relationship-building in a trusted\, collaborative environment\n* Opportunities to share challenges\, ideas\, and solutions \nNot yet a member? Join the EDGE to be part of the conversation. Contact Director@EdgeDistrict.Org
URL:https://edgedistrict.org/edge-event/insights-club/2029-02-09/
CATEGORIES:Educational
END:VEVENT
BEGIN:VEVENT
DTSTART;TZID=America/New_York:20290213T080000
DTEND;TZID=America/New_York:20290213T090000
DTSTAMP:20260420T041052
CREATED:20260415T140150Z
LAST-MODIFIED:20260415T140150Z
UID:10002985-1865664000-1865667600@edgedistrict.org
SUMMARY:Coffee @ Connect
DESCRIPTION:We are opening the doors early every Tuesday for casual morning coffee networking here at Connect St. Pete starting this Tuesday from 8am – 9am! \nNo agenda. Just good coffee\, conversation\, and connection.\nThis will be the first of several Tuesday mornings\, so feel free to drop in whenever it fits your schedule. \nIf you’re nearby\, come say hello we would love to see you.
URL:https://edgedistrict.org/edge-event/coffee-connect/2029-02-13/
LOCATION:Connect St. Pete\, 1211 1st Ave N\, St. Petersburg\, 33705\, United States
ATTACH;FMTTYPE=image/jpeg:https://edgedistrict.org/wp-content/uploads/2026/04/Coffee_at_Connect_02.jpg
ORGANIZER;CN="Roger Curlin":MAILTO:director@edgedistrict.org
END:VEVENT
BEGIN:VEVENT
DTSTART;TZID=America/New_York:20290213T100000
DTEND;TZID=America/New_York:20290213T110000
DTSTAMP:20260420T041052
CREATED:20251111T221759Z
LAST-MODIFIED:20251112T192601Z
UID:10000990-1865671200-1865674800@edgedistrict.org
SUMMARY:EDGE Organization Committee
DESCRIPTION:
URL:https://edgedistrict.org/edge-event/edge-organization-committee/2029-02-13/
END:VEVENT
BEGIN:VEVENT
DTSTART;TZID=America/New_York:20290214T100000
DTEND;TZID=America/New_York:20290214T110000
DTSTAMP:20260420T041052
CREATED:20251111T222108Z
LAST-MODIFIED:20251111T222413Z
UID:10001049-1865757600-1865761200@edgedistrict.org
SUMMARY:EDGE Promotion Committee
DESCRIPTION:
URL:https://edgedistrict.org/edge-event/edge-promotion-committee/2029-02-14/
END:VEVENT
BEGIN:VEVENT
DTSTART;TZID=America/New_York:20290215T190000
DTEND;TZID=America/New_York:20290215T210000
DTSTAMP:20260420T041052
CREATED:20250324T171407Z
LAST-MODIFIED:20250324T171407Z
UID:10000223-1865876400-1865883600@edgedistrict.org
SUMMARY:Trivia Night @ Grassroots
DESCRIPTION:
URL:https://edgedistrict.org/edge-event/trivia-night-grassroots/2029-02-15/
LOCATION:Grassroots Kava House\, 957 Central Ave.\, St. Petersburg\, FL\, 33705\, United States
CATEGORIES:Eat & Drink
END:VEVENT
BEGIN:VEVENT
DTSTART;TZID=America/New_York:20290216T083000
DTEND;TZID=America/New_York:20290216T094500
DTSTAMP:20260420T041052
CREATED:20260404T234527Z
LAST-MODIFIED:20260404T234828Z
UID:10002665-1865925000-1865929500@edgedistrict.org
SUMMARY:Insights Club
DESCRIPTION:EDGE Insights Club\nMembers Only Business Networking & Idea Exchange\n1st Friday (M&M Gaming) 2nd Friday (spARK Labs) 3rd Friday (Connect St. Pete) 4th Friday (Moxy Hotel) 5th Friday No Meeting\nAfternoon meeting held at Webb City starting at 3:00PM. \nThe EDGE Insights Club is a dynamic\, members-only gathering designed exclusively for 2026 EDGE Business District Association members and their invited guests. \nHeld twice each Friday\, these sessions bring together engaged business owners and leaders from across the district for real\, candid conversations about today’s business climate. From navigating economic trends to sharing marketing strategies and operational insights\, Insights Club is where collaboration drives momentum. \nWhat to expect: \n* Peer-to-peer discussions with fellow EDGE business members\n* Timely topics impacting local businesses and the district\n* Relationship-building in a trusted\, collaborative environment\n* Opportunities to share challenges\, ideas\, and solutions \nNot yet a member? Join the EDGE to be part of the conversation. Contact Director@EdgeDistrict.Org
URL:https://edgedistrict.org/edge-event/insights-club/2029-02-16/
CATEGORIES:Educational
END:VEVENT
BEGIN:VEVENT
DTSTART;TZID=America/New_York:20290220T080000
DTEND;TZID=America/New_York:20290220T090000
DTSTAMP:20260420T041052
CREATED:20260415T140150Z
LAST-MODIFIED:20260415T140150Z
UID:10002986-1866268800-1866272400@edgedistrict.org
SUMMARY:Coffee @ Connect
DESCRIPTION:We are opening the doors early every Tuesday for casual morning coffee networking here at Connect St. Pete starting this Tuesday from 8am – 9am! \nNo agenda. Just good coffee\, conversation\, and connection.\nThis will be the first of several Tuesday mornings\, so feel free to drop in whenever it fits your schedule. \nIf you’re nearby\, come say hello we would love to see you.
URL:https://edgedistrict.org/edge-event/coffee-connect/2029-02-20/
LOCATION:Connect St. Pete\, 1211 1st Ave N\, St. Petersburg\, 33705\, United States
ATTACH;FMTTYPE=image/jpeg:https://edgedistrict.org/wp-content/uploads/2026/04/Coffee_at_Connect_02.jpg
ORGANIZER;CN="Roger Curlin":MAILTO:director@edgedistrict.org
END:VEVENT
BEGIN:VEVENT
DTSTART;TZID=America/New_York:20290221T170000
DTEND;TZID=America/New_York:20290221T180000
DTSTAMP:20260420T041052
CREATED:20260415T140340Z
LAST-MODIFIED:20260415T140410Z
UID:10002811-1866387600-1866391200@edgedistrict.org
SUMMARY:Networking Night @ Connect
DESCRIPTION:Join us for Networking Night at Connect St. Pete\, a monthly gathering designed to help you meet the right people and actually walk away with something useful. \nIn this unique networking event\, we will guide a short\, intentional exercise during the event to help spark real connections and give you a tangible takeaway you can apply to your business right away. \nWhether you’re a business owner\, leader\, professional\, or just looking to get more connected in the St. Pete community\, this is a great place to plug in. \nOpen to the public. Come as you are. Leave with more than you came with. \nEvery third Wednesday \n5:00 pm – 6:00 pm
URL:https://edgedistrict.org/edge-event/networking-night-connect/2029-02-21/
LOCATION:Connect St. Pete\, 1211 1st Ave N\, St. Petersburg\, 33705\, United States
ATTACH;FMTTYPE=image/jpeg:https://edgedistrict.org/wp-content/uploads/2026/04/Networking-Night_at_Connect_02.jpg
ORGANIZER;CN="Roger Curlin":MAILTO:director@edgedistrict.org
END:VEVENT
BEGIN:VEVENT
DTSTART;TZID=America/New_York:20290222T190000
DTEND;TZID=America/New_York:20290222T210000
DTSTAMP:20260420T041052
CREATED:20250324T171407Z
LAST-MODIFIED:20250324T171407Z
UID:10000224-1866481200-1866488400@edgedistrict.org
SUMMARY:Trivia Night @ Grassroots
DESCRIPTION:
URL:https://edgedistrict.org/edge-event/trivia-night-grassroots/2029-02-22/
LOCATION:Grassroots Kava House\, 957 Central Ave.\, St. Petersburg\, FL\, 33705\, United States
CATEGORIES:Eat & Drink
END:VEVENT
BEGIN:VEVENT
DTSTART;TZID=America/New_York:20290223T083000
DTEND;TZID=America/New_York:20290223T094500
DTSTAMP:20260420T041052
CREATED:20260404T234527Z
LAST-MODIFIED:20260404T234828Z
UID:10002666-1866529800-1866534300@edgedistrict.org
SUMMARY:Insights Club
DESCRIPTION:EDGE Insights Club\nMembers Only Business Networking & Idea Exchange\n1st Friday (M&M Gaming) 2nd Friday (spARK Labs) 3rd Friday (Connect St. Pete) 4th Friday (Moxy Hotel) 5th Friday No Meeting\nAfternoon meeting held at Webb City starting at 3:00PM. \nThe EDGE Insights Club is a dynamic\, members-only gathering designed exclusively for 2026 EDGE Business District Association members and their invited guests. \nHeld twice each Friday\, these sessions bring together engaged business owners and leaders from across the district for real\, candid conversations about today’s business climate. From navigating economic trends to sharing marketing strategies and operational insights\, Insights Club is where collaboration drives momentum. \nWhat to expect: \n* Peer-to-peer discussions with fellow EDGE business members\n* Timely topics impacting local businesses and the district\n* Relationship-building in a trusted\, collaborative environment\n* Opportunities to share challenges\, ideas\, and solutions \nNot yet a member? Join the EDGE to be part of the conversation. Contact Director@EdgeDistrict.Org
URL:https://edgedistrict.org/edge-event/insights-club/2029-02-23/
CATEGORIES:Educational
END:VEVENT
BEGIN:VEVENT
DTSTART;TZID=America/New_York:20290227T080000
DTEND;TZID=America/New_York:20290227T090000
DTSTAMP:20260420T041052
CREATED:20260415T140150Z
LAST-MODIFIED:20260415T140150Z
UID:10002987-1866873600-1866877200@edgedistrict.org
SUMMARY:Coffee @ Connect
DESCRIPTION:We are opening the doors early every Tuesday for casual morning coffee networking here at Connect St. Pete starting this Tuesday from 8am – 9am! \nNo agenda. Just good coffee\, conversation\, and connection.\nThis will be the first of several Tuesday mornings\, so feel free to drop in whenever it fits your schedule. \nIf you’re nearby\, come say hello we would love to see you.
URL:https://edgedistrict.org/edge-event/coffee-connect/2029-02-27/
LOCATION:Connect St. Pete\, 1211 1st Ave N\, St. Petersburg\, 33705\, United States
ATTACH;FMTTYPE=image/jpeg:https://edgedistrict.org/wp-content/uploads/2026/04/Coffee_at_Connect_02.jpg
ORGANIZER;CN="Roger Curlin":MAILTO:director@edgedistrict.org
END:VEVENT
BEGIN:VEVENT
DTSTART;TZID=America/New_York:20290301T190000
DTEND;TZID=America/New_York:20290301T210000
DTSTAMP:20260420T041052
CREATED:20250324T171407Z
LAST-MODIFIED:20250324T171407Z
UID:10000225-1867086000-1867093200@edgedistrict.org
SUMMARY:Trivia Night @ Grassroots
DESCRIPTION:
URL:https://edgedistrict.org/edge-event/trivia-night-grassroots/2029-03-01/
LOCATION:Grassroots Kava House\, 957 Central Ave.\, St. Petersburg\, FL\, 33705\, United States
CATEGORIES:Eat & Drink
END:VEVENT
BEGIN:VEVENT
DTSTART;TZID=America/New_York:20290302T083000
DTEND;TZID=America/New_York:20290302T094500
DTSTAMP:20260420T041052
CREATED:20260404T234527Z
LAST-MODIFIED:20260404T234828Z
UID:10002667-1867134600-1867139100@edgedistrict.org
SUMMARY:Insights Club
DESCRIPTION:EDGE Insights Club\nMembers Only Business Networking & Idea Exchange\n1st Friday (M&M Gaming) 2nd Friday (spARK Labs) 3rd Friday (Connect St. Pete) 4th Friday (Moxy Hotel) 5th Friday No Meeting\nAfternoon meeting held at Webb City starting at 3:00PM. \nThe EDGE Insights Club is a dynamic\, members-only gathering designed exclusively for 2026 EDGE Business District Association members and their invited guests. \nHeld twice each Friday\, these sessions bring together engaged business owners and leaders from across the district for real\, candid conversations about today’s business climate. From navigating economic trends to sharing marketing strategies and operational insights\, Insights Club is where collaboration drives momentum. \nWhat to expect: \n* Peer-to-peer discussions with fellow EDGE business members\n* Timely topics impacting local businesses and the district\n* Relationship-building in a trusted\, collaborative environment\n* Opportunities to share challenges\, ideas\, and solutions \nNot yet a member? Join the EDGE to be part of the conversation. Contact Director@EdgeDistrict.Org
URL:https://edgedistrict.org/edge-event/insights-club/2029-03-02/
CATEGORIES:Educational
END:VEVENT
BEGIN:VEVENT
DTSTART;TZID=America/New_York:20290305T190000
DTEND;TZID=America/New_York:20290305T210000
DTSTAMP:20260420T041052
CREATED:20250325T172825Z
LAST-MODIFIED:20250325T172922Z
UID:10000330-1867431600-1867438800@edgedistrict.org
SUMMARY:Mindful Men at Grassroots
DESCRIPTION:
URL:https://edgedistrict.org/edge-event/mindful-men-at-grassroots-kava-house/2029-03-05/
LOCATION:Grassroots Kava House\, 957 Central Ave.\, St. Petersburg\, FL\, 33705\, United States
CATEGORIES:Art & Culture
END:VEVENT
END:VCALENDAR