BEGIN:VCALENDAR
VERSION:2.0
PRODID:-//EDGE District - ECPv6.15.18//NONSGML v1.0//EN
CALSCALE:GREGORIAN
METHOD:PUBLISH
X-WR-CALNAME:EDGE District
X-ORIGINAL-URL:https://edgedistrict.org
X-WR-CALDESC:Events for EDGE District
REFRESH-INTERVAL;VALUE=DURATION:PT1H
X-Robots-Tag:noindex
X-PUBLISHED-TTL:PT1H
BEGIN:VTIMEZONE
TZID:America/New_York
BEGIN:DAYLIGHT
TZOFFSETFROM:-0500
TZOFFSETTO:-0400
TZNAME:EDT
DTSTART:20240310T070000
END:DAYLIGHT
BEGIN:STANDARD
TZOFFSETFROM:-0400
TZOFFSETTO:-0500
TZNAME:EST
DTSTART:20241103T060000
END:STANDARD
BEGIN:DAYLIGHT
TZOFFSETFROM:-0500
TZOFFSETTO:-0400
TZNAME:EDT
DTSTART:20250309T070000
END:DAYLIGHT
BEGIN:STANDARD
TZOFFSETFROM:-0400
TZOFFSETTO:-0500
TZNAME:EST
DTSTART:20251102T060000
END:STANDARD
BEGIN:DAYLIGHT
TZOFFSETFROM:-0500
TZOFFSETTO:-0400
TZNAME:EDT
DTSTART:20260308T070000
END:DAYLIGHT
BEGIN:STANDARD
TZOFFSETFROM:-0400
TZOFFSETTO:-0500
TZNAME:EST
DTSTART:20261101T060000
END:STANDARD
END:VTIMEZONE
BEGIN:VEVENT
DTSTART;TZID=America/New_York:20250505T190000
DTEND;TZID=America/New_York:20250505T210000
DTSTAMP:20260425T063618
CREATED:20250325T172825Z
LAST-MODIFIED:20250325T172922Z
UID:10000285-1746471600-1746478800@edgedistrict.org
SUMMARY:Mindful Men at Grassroots
DESCRIPTION:
URL:https://edgedistrict.org/edge-event/mindful-men-at-grassroots-kava-house/2025-05-05/
LOCATION:Grassroots Kava House\, 957 Central Ave.\, St. Petersburg\, FL\, 33705\, United States
CATEGORIES:Art & Culture
END:VEVENT
BEGIN:VEVENT
DTSTART;TZID=America/New_York:20250506T100000
DTEND;TZID=America/New_York:20250506T120000
DTSTAMP:20260425T063618
CREATED:20250422T141510Z
LAST-MODIFIED:20250422T141918Z
UID:10000354-1746525600-1746532800@edgedistrict.org
SUMMARY:Free Vision to Action Workshop
DESCRIPTION:
URL:https://edgedistrict.org/edge-event/free-vision-to-action-workshop/
LOCATION:Flagship Bank\, 965 Central Avenue\, St Petersburg\, 33705\, United States
CATEGORIES:Educational
ATTACH;FMTTYPE=image/png:https://edgedistrict.org/wp-content/uploads/2025/04/Vision-to-Action-Header-1.png
END:VEVENT
BEGIN:VEVENT
DTSTART;TZID=America/New_York:20250507T150000
DTEND;TZID=America/New_York:20250507T170000
DTSTAMP:20260425T063618
CREATED:20250501T204604Z
LAST-MODIFIED:20250501T204655Z
UID:10000367-1746630000-1746637200@edgedistrict.org
SUMMARY:Vision to Action Virtual Workshop
DESCRIPTION:
URL:https://edgedistrict.org/edge-event/vision-to-action-virtual-workshop/
CATEGORIES:Educational
ATTACH;FMTTYPE=image/png:https://edgedistrict.org/wp-content/uploads/2025/05/Vision-to-Action-VIRTUAL-Header.png
END:VEVENT
BEGIN:VEVENT
DTSTART;TZID=America/New_York:20250508T190000
DTEND;TZID=America/New_York:20250508T210000
DTSTAMP:20260425T063618
CREATED:20250324T171407Z
LAST-MODIFIED:20250324T171407Z
UID:10000026-1746730800-1746738000@edgedistrict.org
SUMMARY:Trivia Night @ Grassroots
DESCRIPTION:
URL:https://edgedistrict.org/edge-event/trivia-night-grassroots/2025-05-08/
LOCATION:Grassroots Kava House\, 957 Central Ave.\, St. Petersburg\, FL\, 33705\, United States
CATEGORIES:Eat & Drink
END:VEVENT
BEGIN:VEVENT
DTSTART;TZID=America/New_York:20250508T193000
DTEND;TZID=America/New_York:20250508T210000
DTSTAMP:20260425T063618
CREATED:20250410T143955Z
LAST-MODIFIED:20250410T143955Z
UID:10000353-1746732600-1746738000@edgedistrict.org
SUMMARY:Candle Making Class
DESCRIPTION:
URL:https://edgedistrict.org/edge-event/candle-making-class/
LOCATION:Sans Market\, 1037 Central Ave\, St. Petersburg\, FL\, 33705
ATTACH;FMTTYPE=image/jpeg:https://edgedistrict.org/wp-content/uploads/2025/04/Candle-Class.jpg
END:VEVENT
END:VCALENDAR