BEGIN:VCALENDAR
VERSION:2.0
PRODID:-//EDGE District - ECPv6.15.18//NONSGML v1.0//EN
CALSCALE:GREGORIAN
METHOD:PUBLISH
X-WR-CALNAME:EDGE District
X-ORIGINAL-URL:https://edgedistrict.org
X-WR-CALDESC:Events for EDGE District
REFRESH-INTERVAL;VALUE=DURATION:PT1H
X-Robots-Tag:noindex
X-PUBLISHED-TTL:PT1H
BEGIN:VTIMEZONE
TZID:America/New_York
BEGIN:DAYLIGHT
TZOFFSETFROM:-0500
TZOFFSETTO:-0400
TZNAME:EDT
DTSTART:20280312T070000
END:DAYLIGHT
BEGIN:STANDARD
TZOFFSETFROM:-0400
TZOFFSETTO:-0500
TZNAME:EST
DTSTART:20281105T060000
END:STANDARD
BEGIN:DAYLIGHT
TZOFFSETFROM:-0500
TZOFFSETTO:-0400
TZNAME:EDT
DTSTART:20290311T070000
END:DAYLIGHT
BEGIN:STANDARD
TZOFFSETFROM:-0400
TZOFFSETTO:-0500
TZNAME:EST
DTSTART:20291104T060000
END:STANDARD
BEGIN:DAYLIGHT
TZOFFSETFROM:-0500
TZOFFSETTO:-0400
TZNAME:EDT
DTSTART:20300310T070000
END:DAYLIGHT
BEGIN:STANDARD
TZOFFSETFROM:-0400
TZOFFSETTO:-0500
TZNAME:EST
DTSTART:20301103T060000
END:STANDARD
END:VTIMEZONE
BEGIN:VEVENT
DTSTART;TZID=America/New_York:20290320T080000
DTEND;TZID=America/New_York:20290320T090000
DTSTAMP:20260419T192146
CREATED:20260415T140150Z
LAST-MODIFIED:20260415T140150Z
UID:10002990-1868688000-1868691600@edgedistrict.org
SUMMARY:Coffee @ Connect
DESCRIPTION:We are opening the doors early every Tuesday for casual morning coffee networking here at Connect St. Pete starting this Tuesday from 8am – 9am! \nNo agenda. Just good coffee\, conversation\, and connection.\nThis will be the first of several Tuesday mornings\, so feel free to drop in whenever it fits your schedule. \nIf you’re nearby\, come say hello we would love to see you.
URL:https://edgedistrict.org/edge-event/coffee-connect/2029-03-20/
LOCATION:Connect St. Pete\, 1211 1st Ave N\, St. Petersburg\, 33705\, United States
ATTACH;FMTTYPE=image/jpeg:https://edgedistrict.org/wp-content/uploads/2026/04/Coffee_at_Connect_02.jpg
ORGANIZER;CN="Roger Curlin":MAILTO:director@edgedistrict.org
END:VEVENT
BEGIN:VEVENT
DTSTART;TZID=America/New_York:20290321T170000
DTEND;TZID=America/New_York:20290321T180000
DTSTAMP:20260419T192146
CREATED:20260415T140340Z
LAST-MODIFIED:20260415T140410Z
UID:10002812-1868806800-1868810400@edgedistrict.org
SUMMARY:Networking Night @ Connect
DESCRIPTION:Join us for Networking Night at Connect St. Pete\, a monthly gathering designed to help you meet the right people and actually walk away with something useful. \nIn this unique networking event\, we will guide a short\, intentional exercise during the event to help spark real connections and give you a tangible takeaway you can apply to your business right away. \nWhether you’re a business owner\, leader\, professional\, or just looking to get more connected in the St. Pete community\, this is a great place to plug in. \nOpen to the public. Come as you are. Leave with more than you came with. \nEvery third Wednesday \n5:00 pm – 6:00 pm
URL:https://edgedistrict.org/edge-event/networking-night-connect/2029-03-21/
LOCATION:Connect St. Pete\, 1211 1st Ave N\, St. Petersburg\, 33705\, United States
ATTACH;FMTTYPE=image/jpeg:https://edgedistrict.org/wp-content/uploads/2026/04/Networking-Night_at_Connect_02.jpg
ORGANIZER;CN="Roger Curlin":MAILTO:director@edgedistrict.org
END:VEVENT
BEGIN:VEVENT
DTSTART;TZID=America/New_York:20290322T190000
DTEND;TZID=America/New_York:20290322T210000
DTSTAMP:20260419T192146
CREATED:20250324T171407Z
LAST-MODIFIED:20250324T171407Z
UID:10000228-1868900400-1868907600@edgedistrict.org
SUMMARY:Trivia Night @ Grassroots
DESCRIPTION:
URL:https://edgedistrict.org/edge-event/trivia-night-grassroots/2029-03-22/
LOCATION:Grassroots Kava House\, 957 Central Ave.\, St. Petersburg\, FL\, 33705\, United States
CATEGORIES:Eat & Drink
END:VEVENT
BEGIN:VEVENT
DTSTART;TZID=America/New_York:20290323T083000
DTEND;TZID=America/New_York:20290323T094500
DTSTAMP:20260419T192146
CREATED:20260404T234527Z
LAST-MODIFIED:20260404T234828Z
UID:10002670-1868949000-1868953500@edgedistrict.org
SUMMARY:Insights Club
DESCRIPTION:EDGE Insights Club\nMembers Only Business Networking & Idea Exchange\n1st Friday (M&M Gaming) 2nd Friday (spARK Labs) 3rd Friday (Connect St. Pete) 4th Friday (Moxy Hotel) 5th Friday No Meeting\nAfternoon meeting held at Webb City starting at 3:00PM. \nThe EDGE Insights Club is a dynamic\, members-only gathering designed exclusively for 2026 EDGE Business District Association members and their invited guests. \nHeld twice each Friday\, these sessions bring together engaged business owners and leaders from across the district for real\, candid conversations about today’s business climate. From navigating economic trends to sharing marketing strategies and operational insights\, Insights Club is where collaboration drives momentum. \nWhat to expect: \n* Peer-to-peer discussions with fellow EDGE business members\n* Timely topics impacting local businesses and the district\n* Relationship-building in a trusted\, collaborative environment\n* Opportunities to share challenges\, ideas\, and solutions \nNot yet a member? Join the EDGE to be part of the conversation. Contact Director@EdgeDistrict.Org
URL:https://edgedistrict.org/edge-event/insights-club/2029-03-23/
CATEGORIES:Educational
END:VEVENT
BEGIN:VEVENT
DTSTART;TZID=America/New_York:20290327T080000
DTEND;TZID=America/New_York:20290327T090000
DTSTAMP:20260419T192146
CREATED:20260415T140150Z
LAST-MODIFIED:20260415T140150Z
UID:10002991-1869292800-1869296400@edgedistrict.org
SUMMARY:Coffee @ Connect
DESCRIPTION:We are opening the doors early every Tuesday for casual morning coffee networking here at Connect St. Pete starting this Tuesday from 8am – 9am! \nNo agenda. Just good coffee\, conversation\, and connection.\nThis will be the first of several Tuesday mornings\, so feel free to drop in whenever it fits your schedule. \nIf you’re nearby\, come say hello we would love to see you.
URL:https://edgedistrict.org/edge-event/coffee-connect/2029-03-27/
LOCATION:Connect St. Pete\, 1211 1st Ave N\, St. Petersburg\, 33705\, United States
ATTACH;FMTTYPE=image/jpeg:https://edgedistrict.org/wp-content/uploads/2026/04/Coffee_at_Connect_02.jpg
ORGANIZER;CN="Roger Curlin":MAILTO:director@edgedistrict.org
END:VEVENT
BEGIN:VEVENT
DTSTART;TZID=America/New_York:20290329T190000
DTEND;TZID=America/New_York:20290329T210000
DTSTAMP:20260419T192146
CREATED:20250324T171407Z
LAST-MODIFIED:20250324T171407Z
UID:10000229-1869505200-1869512400@edgedistrict.org
SUMMARY:Trivia Night @ Grassroots
DESCRIPTION:
URL:https://edgedistrict.org/edge-event/trivia-night-grassroots/2029-03-29/
LOCATION:Grassroots Kava House\, 957 Central Ave.\, St. Petersburg\, FL\, 33705\, United States
CATEGORIES:Eat & Drink
END:VEVENT
BEGIN:VEVENT
DTSTART;TZID=America/New_York:20290330T083000
DTEND;TZID=America/New_York:20290330T094500
DTSTAMP:20260419T192146
CREATED:20260404T234527Z
LAST-MODIFIED:20260404T234828Z
UID:10002671-1869553800-1869558300@edgedistrict.org
SUMMARY:Insights Club
DESCRIPTION:EDGE Insights Club\nMembers Only Business Networking & Idea Exchange\n1st Friday (M&M Gaming) 2nd Friday (spARK Labs) 3rd Friday (Connect St. Pete) 4th Friday (Moxy Hotel) 5th Friday No Meeting\nAfternoon meeting held at Webb City starting at 3:00PM. \nThe EDGE Insights Club is a dynamic\, members-only gathering designed exclusively for 2026 EDGE Business District Association members and their invited guests. \nHeld twice each Friday\, these sessions bring together engaged business owners and leaders from across the district for real\, candid conversations about today’s business climate. From navigating economic trends to sharing marketing strategies and operational insights\, Insights Club is where collaboration drives momentum. \nWhat to expect: \n* Peer-to-peer discussions with fellow EDGE business members\n* Timely topics impacting local businesses and the district\n* Relationship-building in a trusted\, collaborative environment\n* Opportunities to share challenges\, ideas\, and solutions \nNot yet a member? Join the EDGE to be part of the conversation. Contact Director@EdgeDistrict.Org
URL:https://edgedistrict.org/edge-event/insights-club/2029-03-30/
CATEGORIES:Educational
END:VEVENT
BEGIN:VEVENT
DTSTART;TZID=America/New_York:20290402T190000
DTEND;TZID=America/New_York:20290402T210000
DTSTAMP:20260419T192146
CREATED:20250325T172825Z
LAST-MODIFIED:20250325T172922Z
UID:10000331-1869850800-1869858000@edgedistrict.org
SUMMARY:Mindful Men at Grassroots
DESCRIPTION:
URL:https://edgedistrict.org/edge-event/mindful-men-at-grassroots-kava-house/2029-04-02/
LOCATION:Grassroots Kava House\, 957 Central Ave.\, St. Petersburg\, FL\, 33705\, United States
CATEGORIES:Art & Culture
END:VEVENT
BEGIN:VEVENT
DTSTART;TZID=America/New_York:20290403T080000
DTEND;TZID=America/New_York:20290403T090000
DTSTAMP:20260419T192146
CREATED:20260415T140150Z
LAST-MODIFIED:20260415T140150Z
UID:10002992-1869897600-1869901200@edgedistrict.org
SUMMARY:Coffee @ Connect
DESCRIPTION:We are opening the doors early every Tuesday for casual morning coffee networking here at Connect St. Pete starting this Tuesday from 8am – 9am! \nNo agenda. Just good coffee\, conversation\, and connection.\nThis will be the first of several Tuesday mornings\, so feel free to drop in whenever it fits your schedule. \nIf you’re nearby\, come say hello we would love to see you.
URL:https://edgedistrict.org/edge-event/coffee-connect/2029-04-03/
LOCATION:Connect St. Pete\, 1211 1st Ave N\, St. Petersburg\, 33705\, United States
ATTACH;FMTTYPE=image/jpeg:https://edgedistrict.org/wp-content/uploads/2026/04/Coffee_at_Connect_02.jpg
ORGANIZER;CN="Roger Curlin":MAILTO:director@edgedistrict.org
END:VEVENT
BEGIN:VEVENT
DTSTART;TZID=America/New_York:20290405T190000
DTEND;TZID=America/New_York:20290405T210000
DTSTAMP:20260419T192146
CREATED:20250324T171407Z
LAST-MODIFIED:20250324T171407Z
UID:10000230-1870110000-1870117200@edgedistrict.org
SUMMARY:Trivia Night @ Grassroots
DESCRIPTION:
URL:https://edgedistrict.org/edge-event/trivia-night-grassroots/2029-04-05/
LOCATION:Grassroots Kava House\, 957 Central Ave.\, St. Petersburg\, FL\, 33705\, United States
CATEGORIES:Eat & Drink
END:VEVENT
BEGIN:VEVENT
DTSTART;TZID=America/New_York:20290406T083000
DTEND;TZID=America/New_York:20290406T094500
DTSTAMP:20260419T192146
CREATED:20260404T234527Z
LAST-MODIFIED:20260404T234828Z
UID:10002672-1870158600-1870163100@edgedistrict.org
SUMMARY:Insights Club
DESCRIPTION:EDGE Insights Club\nMembers Only Business Networking & Idea Exchange\n1st Friday (M&M Gaming) 2nd Friday (spARK Labs) 3rd Friday (Connect St. Pete) 4th Friday (Moxy Hotel) 5th Friday No Meeting\nAfternoon meeting held at Webb City starting at 3:00PM. \nThe EDGE Insights Club is a dynamic\, members-only gathering designed exclusively for 2026 EDGE Business District Association members and their invited guests. \nHeld twice each Friday\, these sessions bring together engaged business owners and leaders from across the district for real\, candid conversations about today’s business climate. From navigating economic trends to sharing marketing strategies and operational insights\, Insights Club is where collaboration drives momentum. \nWhat to expect: \n* Peer-to-peer discussions with fellow EDGE business members\n* Timely topics impacting local businesses and the district\n* Relationship-building in a trusted\, collaborative environment\n* Opportunities to share challenges\, ideas\, and solutions \nNot yet a member? Join the EDGE to be part of the conversation. Contact Director@EdgeDistrict.Org
URL:https://edgedistrict.org/edge-event/insights-club/2029-04-06/
CATEGORIES:Educational
END:VEVENT
BEGIN:VEVENT
DTSTART;TZID=America/New_York:20290410T080000
DTEND;TZID=America/New_York:20290410T090000
DTSTAMP:20260419T192146
CREATED:20260415T140150Z
LAST-MODIFIED:20260415T140150Z
UID:10002993-1870502400-1870506000@edgedistrict.org
SUMMARY:Coffee @ Connect
DESCRIPTION:We are opening the doors early every Tuesday for casual morning coffee networking here at Connect St. Pete starting this Tuesday from 8am – 9am! \nNo agenda. Just good coffee\, conversation\, and connection.\nThis will be the first of several Tuesday mornings\, so feel free to drop in whenever it fits your schedule. \nIf you’re nearby\, come say hello we would love to see you.
URL:https://edgedistrict.org/edge-event/coffee-connect/2029-04-10/
LOCATION:Connect St. Pete\, 1211 1st Ave N\, St. Petersburg\, 33705\, United States
ATTACH;FMTTYPE=image/jpeg:https://edgedistrict.org/wp-content/uploads/2026/04/Coffee_at_Connect_02.jpg
ORGANIZER;CN="Roger Curlin":MAILTO:director@edgedistrict.org
END:VEVENT
BEGIN:VEVENT
DTSTART;TZID=America/New_York:20290410T100000
DTEND;TZID=America/New_York:20290410T110000
DTSTAMP:20260419T192146
CREATED:20251111T221759Z
LAST-MODIFIED:20251112T192601Z
UID:10000992-1870509600-1870513200@edgedistrict.org
SUMMARY:EDGE Organization Committee
DESCRIPTION:
URL:https://edgedistrict.org/edge-event/edge-organization-committee/2029-04-10/
END:VEVENT
BEGIN:VEVENT
DTSTART;TZID=America/New_York:20290411T100000
DTEND;TZID=America/New_York:20290411T110000
DTSTAMP:20260419T192146
CREATED:20251111T222108Z
LAST-MODIFIED:20251111T222413Z
UID:10001051-1870596000-1870599600@edgedistrict.org
SUMMARY:EDGE Promotion Committee
DESCRIPTION:
URL:https://edgedistrict.org/edge-event/edge-promotion-committee/2029-04-11/
END:VEVENT
BEGIN:VEVENT
DTSTART;TZID=America/New_York:20290412T090000
DTEND;TZID=America/New_York:20290412T100000
DTSTAMP:20260419T192146
CREATED:20251111T222308Z
LAST-MODIFIED:20251111T222342Z
UID:10001110-1870678800-1870682400@edgedistrict.org
SUMMARY:EDGE Economic Vitality & Design Committee
DESCRIPTION:
URL:https://edgedistrict.org/edge-event/edge-economic-vitality-design-committee/2029-04-12/
END:VEVENT
BEGIN:VEVENT
DTSTART;TZID=America/New_York:20290412T120000
DTEND;TZID=America/New_York:20290412T130000
DTSTAMP:20260419T192146
CREATED:20260129T155650Z
LAST-MODIFIED:20260309T144908Z
UID:10002469-1870689600-1870693200@edgedistrict.org
SUMMARY:EDGE Walk & Talk Community Stroll
DESCRIPTION:Join us the second Thursday of each month (October – May) for a casual stroll through the EDGE District led by our Executive Director\, Nicole Waters. She will share information about the history\, present\, and future of the EDGE while walkers have a change to mingle with neighbors and business owners alike.
URL:https://edgedistrict.org/edge-event/edge-walking-tour-1-hour-presented-by-suncoast-credit-union/2029-04-12/
ATTACH;FMTTYPE=image/jpeg:https://edgedistrict.org/wp-content/uploads/2026/01/IMG_0028-scaled.jpg
END:VEVENT
BEGIN:VEVENT
DTSTART;TZID=America/New_York:20290412T190000
DTEND;TZID=America/New_York:20290412T210000
DTSTAMP:20260419T192146
CREATED:20250324T171407Z
LAST-MODIFIED:20250324T171407Z
UID:10000231-1870714800-1870722000@edgedistrict.org
SUMMARY:Trivia Night @ Grassroots
DESCRIPTION:
URL:https://edgedistrict.org/edge-event/trivia-night-grassroots/2029-04-12/
LOCATION:Grassroots Kava House\, 957 Central Ave.\, St. Petersburg\, FL\, 33705\, United States
CATEGORIES:Eat & Drink
END:VEVENT
BEGIN:VEVENT
DTSTART;TZID=America/New_York:20290413T083000
DTEND;TZID=America/New_York:20290413T094500
DTSTAMP:20260419T192146
CREATED:20260404T234527Z
LAST-MODIFIED:20260404T234828Z
UID:10002673-1870763400-1870767900@edgedistrict.org
SUMMARY:Insights Club
DESCRIPTION:EDGE Insights Club\nMembers Only Business Networking & Idea Exchange\n1st Friday (M&M Gaming) 2nd Friday (spARK Labs) 3rd Friday (Connect St. Pete) 4th Friday (Moxy Hotel) 5th Friday No Meeting\nAfternoon meeting held at Webb City starting at 3:00PM. \nThe EDGE Insights Club is a dynamic\, members-only gathering designed exclusively for 2026 EDGE Business District Association members and their invited guests. \nHeld twice each Friday\, these sessions bring together engaged business owners and leaders from across the district for real\, candid conversations about today’s business climate. From navigating economic trends to sharing marketing strategies and operational insights\, Insights Club is where collaboration drives momentum. \nWhat to expect: \n* Peer-to-peer discussions with fellow EDGE business members\n* Timely topics impacting local businesses and the district\n* Relationship-building in a trusted\, collaborative environment\n* Opportunities to share challenges\, ideas\, and solutions \nNot yet a member? Join the EDGE to be part of the conversation. Contact Director@EdgeDistrict.Org
URL:https://edgedistrict.org/edge-event/insights-club/2029-04-13/
CATEGORIES:Educational
END:VEVENT
BEGIN:VEVENT
DTSTART;TZID=America/New_York:20290417T080000
DTEND;TZID=America/New_York:20290417T090000
DTSTAMP:20260419T192146
CREATED:20260415T140150Z
LAST-MODIFIED:20260415T140150Z
UID:10002994-1871107200-1871110800@edgedistrict.org
SUMMARY:Coffee @ Connect
DESCRIPTION:We are opening the doors early every Tuesday for casual morning coffee networking here at Connect St. Pete starting this Tuesday from 8am – 9am! \nNo agenda. Just good coffee\, conversation\, and connection.\nThis will be the first of several Tuesday mornings\, so feel free to drop in whenever it fits your schedule. \nIf you’re nearby\, come say hello we would love to see you.
URL:https://edgedistrict.org/edge-event/coffee-connect/2029-04-17/
LOCATION:Connect St. Pete\, 1211 1st Ave N\, St. Petersburg\, 33705\, United States
ATTACH;FMTTYPE=image/jpeg:https://edgedistrict.org/wp-content/uploads/2026/04/Coffee_at_Connect_02.jpg
ORGANIZER;CN="Roger Curlin":MAILTO:director@edgedistrict.org
END:VEVENT
BEGIN:VEVENT
DTSTART;TZID=America/New_York:20290418T170000
DTEND;TZID=America/New_York:20290418T180000
DTSTAMP:20260419T192146
CREATED:20260415T140340Z
LAST-MODIFIED:20260415T140410Z
UID:10002813-1871226000-1871229600@edgedistrict.org
SUMMARY:Networking Night @ Connect
DESCRIPTION:Join us for Networking Night at Connect St. Pete\, a monthly gathering designed to help you meet the right people and actually walk away with something useful. \nIn this unique networking event\, we will guide a short\, intentional exercise during the event to help spark real connections and give you a tangible takeaway you can apply to your business right away. \nWhether you’re a business owner\, leader\, professional\, or just looking to get more connected in the St. Pete community\, this is a great place to plug in. \nOpen to the public. Come as you are. Leave with more than you came with. \nEvery third Wednesday \n5:00 pm – 6:00 pm
URL:https://edgedistrict.org/edge-event/networking-night-connect/2029-04-18/
LOCATION:Connect St. Pete\, 1211 1st Ave N\, St. Petersburg\, 33705\, United States
ATTACH;FMTTYPE=image/jpeg:https://edgedistrict.org/wp-content/uploads/2026/04/Networking-Night_at_Connect_02.jpg
ORGANIZER;CN="Roger Curlin":MAILTO:director@edgedistrict.org
END:VEVENT
BEGIN:VEVENT
DTSTART;TZID=America/New_York:20290419T190000
DTEND;TZID=America/New_York:20290419T210000
DTSTAMP:20260419T192146
CREATED:20250324T171407Z
LAST-MODIFIED:20250324T171407Z
UID:10000232-1871319600-1871326800@edgedistrict.org
SUMMARY:Trivia Night @ Grassroots
DESCRIPTION:
URL:https://edgedistrict.org/edge-event/trivia-night-grassroots/2029-04-19/
LOCATION:Grassroots Kava House\, 957 Central Ave.\, St. Petersburg\, FL\, 33705\, United States
CATEGORIES:Eat & Drink
END:VEVENT
BEGIN:VEVENT
DTSTART;TZID=America/New_York:20290420T083000
DTEND;TZID=America/New_York:20290420T094500
DTSTAMP:20260419T192146
CREATED:20260404T234527Z
LAST-MODIFIED:20260404T234828Z
UID:10002674-1871368200-1871372700@edgedistrict.org
SUMMARY:Insights Club
DESCRIPTION:EDGE Insights Club\nMembers Only Business Networking & Idea Exchange\n1st Friday (M&M Gaming) 2nd Friday (spARK Labs) 3rd Friday (Connect St. Pete) 4th Friday (Moxy Hotel) 5th Friday No Meeting\nAfternoon meeting held at Webb City starting at 3:00PM. \nThe EDGE Insights Club is a dynamic\, members-only gathering designed exclusively for 2026 EDGE Business District Association members and their invited guests. \nHeld twice each Friday\, these sessions bring together engaged business owners and leaders from across the district for real\, candid conversations about today’s business climate. From navigating economic trends to sharing marketing strategies and operational insights\, Insights Club is where collaboration drives momentum. \nWhat to expect: \n* Peer-to-peer discussions with fellow EDGE business members\n* Timely topics impacting local businesses and the district\n* Relationship-building in a trusted\, collaborative environment\n* Opportunities to share challenges\, ideas\, and solutions \nNot yet a member? Join the EDGE to be part of the conversation. Contact Director@EdgeDistrict.Org
URL:https://edgedistrict.org/edge-event/insights-club/2029-04-20/
CATEGORIES:Educational
END:VEVENT
BEGIN:VEVENT
DTSTART;TZID=America/New_York:20290424T080000
DTEND;TZID=America/New_York:20290424T090000
DTSTAMP:20260419T192146
CREATED:20260415T140150Z
LAST-MODIFIED:20260415T140150Z
UID:10002995-1871712000-1871715600@edgedistrict.org
SUMMARY:Coffee @ Connect
DESCRIPTION:We are opening the doors early every Tuesday for casual morning coffee networking here at Connect St. Pete starting this Tuesday from 8am – 9am! \nNo agenda. Just good coffee\, conversation\, and connection.\nThis will be the first of several Tuesday mornings\, so feel free to drop in whenever it fits your schedule. \nIf you’re nearby\, come say hello we would love to see you.
URL:https://edgedistrict.org/edge-event/coffee-connect/2029-04-24/
LOCATION:Connect St. Pete\, 1211 1st Ave N\, St. Petersburg\, 33705\, United States
ATTACH;FMTTYPE=image/jpeg:https://edgedistrict.org/wp-content/uploads/2026/04/Coffee_at_Connect_02.jpg
ORGANIZER;CN="Roger Curlin":MAILTO:director@edgedistrict.org
END:VEVENT
BEGIN:VEVENT
DTSTART;TZID=America/New_York:20290426T190000
DTEND;TZID=America/New_York:20290426T210000
DTSTAMP:20260419T192146
CREATED:20250324T171407Z
LAST-MODIFIED:20250324T171407Z
UID:10000233-1871924400-1871931600@edgedistrict.org
SUMMARY:Trivia Night @ Grassroots
DESCRIPTION:
URL:https://edgedistrict.org/edge-event/trivia-night-grassroots/2029-04-26/
LOCATION:Grassroots Kava House\, 957 Central Ave.\, St. Petersburg\, FL\, 33705\, United States
CATEGORIES:Eat & Drink
END:VEVENT
BEGIN:VEVENT
DTSTART;TZID=America/New_York:20290427T083000
DTEND;TZID=America/New_York:20290427T094500
DTSTAMP:20260419T192146
CREATED:20260404T234527Z
LAST-MODIFIED:20260404T234828Z
UID:10002675-1871973000-1871977500@edgedistrict.org
SUMMARY:Insights Club
DESCRIPTION:EDGE Insights Club\nMembers Only Business Networking & Idea Exchange\n1st Friday (M&M Gaming) 2nd Friday (spARK Labs) 3rd Friday (Connect St. Pete) 4th Friday (Moxy Hotel) 5th Friday No Meeting\nAfternoon meeting held at Webb City starting at 3:00PM. \nThe EDGE Insights Club is a dynamic\, members-only gathering designed exclusively for 2026 EDGE Business District Association members and their invited guests. \nHeld twice each Friday\, these sessions bring together engaged business owners and leaders from across the district for real\, candid conversations about today’s business climate. From navigating economic trends to sharing marketing strategies and operational insights\, Insights Club is where collaboration drives momentum. \nWhat to expect: \n* Peer-to-peer discussions with fellow EDGE business members\n* Timely topics impacting local businesses and the district\n* Relationship-building in a trusted\, collaborative environment\n* Opportunities to share challenges\, ideas\, and solutions \nNot yet a member? Join the EDGE to be part of the conversation. Contact Director@EdgeDistrict.Org
URL:https://edgedistrict.org/edge-event/insights-club/2029-04-27/
CATEGORIES:Educational
END:VEVENT
BEGIN:VEVENT
DTSTART;TZID=America/New_York:20290501T080000
DTEND;TZID=America/New_York:20290501T090000
DTSTAMP:20260419T192146
CREATED:20260415T140150Z
LAST-MODIFIED:20260415T140150Z
UID:10002996-1872316800-1872320400@edgedistrict.org
SUMMARY:Coffee @ Connect
DESCRIPTION:We are opening the doors early every Tuesday for casual morning coffee networking here at Connect St. Pete starting this Tuesday from 8am – 9am! \nNo agenda. Just good coffee\, conversation\, and connection.\nThis will be the first of several Tuesday mornings\, so feel free to drop in whenever it fits your schedule. \nIf you’re nearby\, come say hello we would love to see you.
URL:https://edgedistrict.org/edge-event/coffee-connect/2029-05-01/
LOCATION:Connect St. Pete\, 1211 1st Ave N\, St. Petersburg\, 33705\, United States
ATTACH;FMTTYPE=image/jpeg:https://edgedistrict.org/wp-content/uploads/2026/04/Coffee_at_Connect_02.jpg
ORGANIZER;CN="Roger Curlin":MAILTO:director@edgedistrict.org
END:VEVENT
BEGIN:VEVENT
DTSTART;TZID=America/New_York:20290503T190000
DTEND;TZID=America/New_York:20290503T210000
DTSTAMP:20260419T192146
CREATED:20250324T171407Z
LAST-MODIFIED:20250324T171407Z
UID:10000234-1872529200-1872536400@edgedistrict.org
SUMMARY:Trivia Night @ Grassroots
DESCRIPTION:
URL:https://edgedistrict.org/edge-event/trivia-night-grassroots/2029-05-03/
LOCATION:Grassroots Kava House\, 957 Central Ave.\, St. Petersburg\, FL\, 33705\, United States
CATEGORIES:Eat & Drink
END:VEVENT
BEGIN:VEVENT
DTSTART;TZID=America/New_York:20290504T083000
DTEND;TZID=America/New_York:20290504T094500
DTSTAMP:20260419T192146
CREATED:20260404T234527Z
LAST-MODIFIED:20260404T234828Z
UID:10002676-1872577800-1872582300@edgedistrict.org
SUMMARY:Insights Club
DESCRIPTION:EDGE Insights Club\nMembers Only Business Networking & Idea Exchange\n1st Friday (M&M Gaming) 2nd Friday (spARK Labs) 3rd Friday (Connect St. Pete) 4th Friday (Moxy Hotel) 5th Friday No Meeting\nAfternoon meeting held at Webb City starting at 3:00PM. \nThe EDGE Insights Club is a dynamic\, members-only gathering designed exclusively for 2026 EDGE Business District Association members and their invited guests. \nHeld twice each Friday\, these sessions bring together engaged business owners and leaders from across the district for real\, candid conversations about today’s business climate. From navigating economic trends to sharing marketing strategies and operational insights\, Insights Club is where collaboration drives momentum. \nWhat to expect: \n* Peer-to-peer discussions with fellow EDGE business members\n* Timely topics impacting local businesses and the district\n* Relationship-building in a trusted\, collaborative environment\n* Opportunities to share challenges\, ideas\, and solutions \nNot yet a member? Join the EDGE to be part of the conversation. Contact Director@EdgeDistrict.Org
URL:https://edgedistrict.org/edge-event/insights-club/2029-05-04/
CATEGORIES:Educational
END:VEVENT
BEGIN:VEVENT
DTSTART;TZID=America/New_York:20290507T190000
DTEND;TZID=America/New_York:20290507T210000
DTSTAMP:20260419T192146
CREATED:20250325T172825Z
LAST-MODIFIED:20250325T172922Z
UID:10000332-1872874800-1872882000@edgedistrict.org
SUMMARY:Mindful Men at Grassroots
DESCRIPTION:
URL:https://edgedistrict.org/edge-event/mindful-men-at-grassroots-kava-house/2029-05-07/
LOCATION:Grassroots Kava House\, 957 Central Ave.\, St. Petersburg\, FL\, 33705\, United States
CATEGORIES:Art & Culture
END:VEVENT
BEGIN:VEVENT
DTSTART;TZID=America/New_York:20290508T080000
DTEND;TZID=America/New_York:20290508T090000
DTSTAMP:20260419T192146
CREATED:20260415T140150Z
LAST-MODIFIED:20260415T140150Z
UID:10002997-1872921600-1872925200@edgedistrict.org
SUMMARY:Coffee @ Connect
DESCRIPTION:We are opening the doors early every Tuesday for casual morning coffee networking here at Connect St. Pete starting this Tuesday from 8am – 9am! \nNo agenda. Just good coffee\, conversation\, and connection.\nThis will be the first of several Tuesday mornings\, so feel free to drop in whenever it fits your schedule. \nIf you’re nearby\, come say hello we would love to see you.
URL:https://edgedistrict.org/edge-event/coffee-connect/2029-05-08/
LOCATION:Connect St. Pete\, 1211 1st Ave N\, St. Petersburg\, 33705\, United States
ATTACH;FMTTYPE=image/jpeg:https://edgedistrict.org/wp-content/uploads/2026/04/Coffee_at_Connect_02.jpg
ORGANIZER;CN="Roger Curlin":MAILTO:director@edgedistrict.org
END:VEVENT
END:VCALENDAR