BEGIN:VCALENDAR
VERSION:2.0
PRODID:-//EDGE District - ECPv6.15.18//NONSGML v1.0//EN
CALSCALE:GREGORIAN
METHOD:PUBLISH
X-ORIGINAL-URL:https://edgedistrict.org
X-WR-CALDESC:Events for EDGE District
REFRESH-INTERVAL;VALUE=DURATION:PT1H
X-Robots-Tag:noindex
X-PUBLISHED-TTL:PT1H
BEGIN:VTIMEZONE
TZID:America/New_York
BEGIN:DAYLIGHT
TZOFFSETFROM:-0500
TZOFFSETTO:-0400
TZNAME:EDT
DTSTART:20240310T070000
END:DAYLIGHT
BEGIN:STANDARD
TZOFFSETFROM:-0400
TZOFFSETTO:-0500
TZNAME:EST
DTSTART:20241103T060000
END:STANDARD
BEGIN:DAYLIGHT
TZOFFSETFROM:-0500
TZOFFSETTO:-0400
TZNAME:EDT
DTSTART:20250309T070000
END:DAYLIGHT
BEGIN:STANDARD
TZOFFSETFROM:-0400
TZOFFSETTO:-0500
TZNAME:EST
DTSTART:20251102T060000
END:STANDARD
BEGIN:DAYLIGHT
TZOFFSETFROM:-0500
TZOFFSETTO:-0400
TZNAME:EDT
DTSTART:20260308T070000
END:DAYLIGHT
BEGIN:STANDARD
TZOFFSETFROM:-0400
TZOFFSETTO:-0500
TZNAME:EST
DTSTART:20261101T060000
END:STANDARD
BEGIN:DAYLIGHT
TZOFFSETFROM:-0500
TZOFFSETTO:-0400
TZNAME:EDT
DTSTART:20270314T070000
END:DAYLIGHT
BEGIN:STANDARD
TZOFFSETFROM:-0400
TZOFFSETTO:-0500
TZNAME:EST
DTSTART:20271107T060000
END:STANDARD
END:VTIMEZONE
BEGIN:VEVENT
DTSTART;TZID=America/New_York:20260423T193000
DTEND;TZID=America/New_York:20260423T203000
DTSTAMP:20260424T113059
CREATED:20260319T161423Z
LAST-MODIFIED:20260319T161423Z
UID:10002511-1776972600-1776976200@edgedistrict.org
SUMMARY:Make a "Trashterpiece" Workshop
DESCRIPTION:Hosted by Art with Kyli\, give “trash” an extended life by crafting it into a unique personalized miniature art piece you can keep forever. \nSanitized trash\, crafting supplies and a frame will be provided\, but feel free to bring your own goodies and trinkets to share! \nA quick rewatch of the 2008 cinematic masterpiece\, Tinker Bell\, is by no means required\, but will help you get into the right headspace \nTickets are $20 and non-refundable. Only 10 spaces available
URL:https://edgedistrict.org/edge-event/make-a-trashterpiece-workshop/
LOCATION:Sans Market\, 1037 Central Ave\, St. Petersburg\, FL\, 33705
ATTACH;FMTTYPE=image/jpeg:https://edgedistrict.org/wp-content/uploads/2026/03/Instagram-Posts-41.jpg
ORGANIZER;CN="Roger Curlin":MAILTO:director@edgedistrict.org
END:VEVENT
BEGIN:VEVENT
DTSTART;TZID=America/New_York:20260418T100000
DTEND;TZID=America/New_York:20260418T130000
DTSTAMP:20260424T113059
CREATED:20260319T161532Z
LAST-MODIFIED:20260319T161532Z
UID:10002510-1776506400-1776517200@edgedistrict.org
SUMMARY:Earth Day Clean Up + Block Party
DESCRIPTION:Join our annual Earth Day Clean Up and hang out after for our block party with environmental organizations\, non-profits\, giveaways\, raffle prizes + more! This is a FREE\, family friendly event to celebrate Earth Day\, do our part to keep her clean and have fun while doing it! \nClean Up: 10am – 11:30am Meet @ Sans Market 1037 Central Ave.\, St. Pete FL \nBlock Party: 11:30am-1pm Ashe Couture side lot 1027 Central Ave.\, St. Pete FL \nEnvironmental organizations\, non-profits\, giveaways\, raffle prizes + more! \nAll clean up supplies will be provided by Keep Pinellas Beautiful\, but if you have extra feel free to bring your own. We also recommend bringing plenty of water\, sunscreen and a hat! \nPlease RSVP so we have an accurate headcount and plenty of supplies!
URL:https://edgedistrict.org/edge-event/earth-day-clean-up-block-party/
LOCATION:Sans Market\, 1037 Central Ave\, St. Petersburg\, FL\, 33705
CATEGORIES:Family-Friendly Activity
ATTACH;FMTTYPE=image/jpeg:https://edgedistrict.org/wp-content/uploads/2026/03/Instagram-Posts-40.jpg
ORGANIZER;CN="Roger Curlin":MAILTO:director@edgedistrict.org
END:VEVENT
BEGIN:VEVENT
DTSTART;TZID=America/New_York:20260402T193000
DTEND;TZID=America/New_York:20260402T203000
DTSTAMP:20260424T113059
CREATED:20260319T161606Z
LAST-MODIFIED:20260319T161606Z
UID:10002509-1775158200-1775161800@edgedistrict.org
SUMMARY:Natural Egg Dying Workshop
DESCRIPTION:Led by our friend Erica\, founder of The Roaming Petal\, learn how to naturally dye 6 eggs with floral designs. All supplies will be provided\, just bring your creativity and whimsy. \nOnce finished\, these eggs will make great decor for the Easter holiday and spring season. \n$35 per person and please note that tickets are non-refundable. (This class is for ages 8+)
URL:https://edgedistrict.org/edge-event/natural-egg-dying-workshop/
LOCATION:Sans Market\, 1037 Central Ave\, St. Petersburg\, FL\, 33705
ATTACH;FMTTYPE=image/jpeg:https://edgedistrict.org/wp-content/uploads/2026/03/Instagram-Posts-42.jpg
ORGANIZER;CN="Roger Curlin":MAILTO:director@edgedistrict.org
END:VEVENT
BEGIN:VEVENT
DTSTART;TZID=America/New_York:20260319T193000
DTEND;TZID=America/New_York:20260319T203000
DTSTAMP:20260424T113059
CREATED:20260211T020043Z
LAST-MODIFIED:20260211T020043Z
UID:10002498-1773948600-1773952200@edgedistrict.org
SUMMARY:Liquid Soap Making Class
DESCRIPTION:Thursday\, March 19th 7:30pm-8:30pm \n@ Sans Market 1037 Central Ave. \nJoin Rachel from Little Tree Homestead as she shares how to make your own liquid soap (the easy way) \n-Learn the science behind soap making \n-Step-by-step soap making demonstration \n-Scent your own liquid soap with essential oils \n-Q&A \nBONUS: Take home your own soap and before you leave the class choose from a variety of essential oils to scent and personalize your soap \nTickets are $25 and non-refundable. Half of the ticket proceeds will be donated to the Little Tree Homestead non-profit so they can continue to educate the community.
URL:https://edgedistrict.org/edge-event/liquid-soap-making-class/
LOCATION:Sans Market\, 1037 Central Ave\, St. Petersburg\, FL\, 33705
CATEGORIES:Educational
ATTACH;FMTTYPE=image/jpeg:https://edgedistrict.org/wp-content/uploads/2026/02/Instagram-Posts-33.jpg
ORGANIZER;CN="Roger Curlin":MAILTO:director@edgedistrict.org
END:VEVENT
BEGIN:VEVENT
DTSTART;TZID=America/New_York:20260312T193000
DTEND;TZID=America/New_York:20260312T203000
DTSTAMP:20260424T113059
CREATED:20260211T020111Z
LAST-MODIFIED:20260211T020111Z
UID:10002497-1773343800-1773347400@edgedistrict.org
SUMMARY:Florida Spring Gardening 101
DESCRIPTION:Thursday\, March 12th 7:30-8:30pm \n@ Sans Market 1037 Central Ave \nLearn from local veggie gardening expert Desiree’ Sims of Peas & Love Edible Gardening. \n-Best practices for planning your garden \n-What vegetables grow best in the Florida spring climate \n-Florida gardening tips + tricks for successful growing \nPlus take home a spring variety seed packet to help get you started on your growing journey! \nTickets are $20 and are non-refundable
URL:https://edgedistrict.org/edge-event/florida-spring-gardening-101/
LOCATION:Sans Market\, 1037 Central Ave\, St. Petersburg\, FL\, 33705
CATEGORIES:Educational
ATTACH;FMTTYPE=image/jpeg:https://edgedistrict.org/wp-content/uploads/2026/02/Instagram-Posts-32.jpg
ORGANIZER;CN="Roger Curlin":MAILTO:director@edgedistrict.org
END:VEVENT
BEGIN:VEVENT
DTSTART;TZID=America/New_York:20260226T193000
DTEND;TZID=America/New_York:20260226T203000
DTSTAMP:20260424T113059
CREATED:20260113T184827Z
LAST-MODIFIED:20260113T184827Z
UID:10002426-1772134200-1772137800@edgedistrict.org
SUMMARY:Morning Meal Prep 101
DESCRIPTION:Mornings often feel rushed\, inconsistent\, or like something we just push through — and that can set the tone for the entire day. \nLed by local nutritionist Jeniffer Alburquerque\, this class is a relaxed\, conversational cooking demonstration and tasting experience designed to help you start your day feeling full\, energized\, and focused.  \nWe’ll talk about simple make-ahead breakfasts\, gentle morning habits\, and small mindset shifts that make nourishing yourself feel easier and more natural\, not forced or overwhelming. \n-Watch 3 easy breakfast meal prep demonstrations \n-Learn recipes to keep you full\, focused & energized \n-Advice for food storage for extra freshness \n-Enjoy samples of each meal \nPlus after the class get an email with all the recipes to try yourself! \nTickets are $35. Please note that tickets are non-refundable.
URL:https://edgedistrict.org/edge-event/morning-meal-prep-101/
LOCATION:Sans Market\, 1037 Central Ave\, St. Petersburg\, FL\, 33705
CATEGORIES:Educational
ATTACH;FMTTYPE=image/jpeg:https://edgedistrict.org/wp-content/uploads/2026/01/Instagram-Posts-28.jpg
END:VEVENT
BEGIN:VEVENT
DTSTART;TZID=America/New_York:20260219T193000
DTEND;TZID=America/New_York:20260219T203000
DTSTAMP:20260424T113059
CREATED:20260113T184631Z
LAST-MODIFIED:20260113T184631Z
UID:10002425-1771529400-1771533000@edgedistrict.org
SUMMARY:Book Swap
DESCRIPTION:Looking to fill your bookshelves and feed your reading habit affordably and sustainably? Join our book swap event! \n-Bring up to 10 gently used books to swap (if you bring a few more that’s ok)  \n-Bring bookmarks to swap \n-Each attendee will get a FREE drink to sip on while you browse \n-Any leftover items will be donated \nTickets are $5 per person. Please note tickets are non-refundable.
URL:https://edgedistrict.org/edge-event/book-swap/
LOCATION:Sans Market\, 1037 Central Ave\, St. Petersburg\, FL\, 33705
ATTACH;FMTTYPE=image/jpeg:https://edgedistrict.org/wp-content/uploads/2026/01/Instagram-Posts-29.jpg
END:VEVENT
BEGIN:VEVENT
DTSTART;TZID=America/New_York:20260212T193000
DTEND;TZID=America/New_York:20260212T210000
DTSTAMP:20260424T113059
CREATED:20260113T184748Z
LAST-MODIFIED:20260113T184748Z
UID:10002424-1770924600-1770930000@edgedistrict.org
SUMMARY:Sustainable Social + Mixer
DESCRIPTION:Many people are looking for love in February\, but what about friendship? Join us for an evening of eco-friendly fun! Meet like-minded people\, make new friends and find community. All are welcome! \nWe’ll have a variety of stations and cozy nooks to play board games\, work on puzzles\, participate in group activities and more. Work in a sustainable career or non-profit? We’ll have opportunities for networking and collaboration as well.  \nAttendees get a complimentary non-alcoholic drink + the opportunity to win a sustainable raffle prize! Come mix\, mingle and go home with new eco-friends! \n-One non-alcoholic drink included \n-Icebreakers + games + activities \n-Opportunities for networking \n-A raffle prize \n$5 per person. Please note that tickets are non-refundable.
URL:https://edgedistrict.org/edge-event/sustainable-social-mixer/
LOCATION:Sans Market\, 1037 Central Ave\, St. Petersburg\, FL\, 33705
ATTACH;FMTTYPE=image/jpeg:https://edgedistrict.org/wp-content/uploads/2026/01/Instagram-Posts-26.jpg
END:VEVENT
BEGIN:VEVENT
DTSTART;TZID=America/New_York:20260129T193000
DTEND;TZID=America/New_York:20260129T203000
DTSTAMP:20260424T113059
CREATED:20260112T183754Z
LAST-MODIFIED:20260112T183754Z
UID:10002422-1769715000-1769718600@edgedistrict.org
SUMMARY:Town Hall: Microplastics In Tampa Bay What We Know + How You Can Help
DESCRIPTION:January 29th 7:30pm – 8:30pm \n@ Sans Market 1037 Central Ave. \nGuest Speakers: Amy Siuda and Shannon Gowans\, Eckerd College Professors of Marine Science and devolopers of the Remora App used to track single use plastic & collect data for policy change \n-Learn about the Microplastics in Tampa Bay monitoring system + hear about results + learn how you can help \n-Microplastics Q&A \n-Engage with like-minded people \n-*BYOC (bring your own chair) since seats are limited \nThis is a FREE event\, but we do ask that you RSVP in advance so we have an accurate headcount.
URL:https://edgedistrict.org/edge-event/town-hall-microplastics-in-tampa-bay-what-we-know-how-you-can-help/
LOCATION:Sans Market\, 1037 Central Ave\, St. Petersburg\, FL\, 33705
CATEGORIES:Educational
ATTACH;FMTTYPE=image/jpeg:https://edgedistrict.org/wp-content/uploads/2026/01/Instagram-Posts-23.jpg
END:VEVENT
BEGIN:VEVENT
DTSTART;TZID=America/New_York:20260122T193000
DTEND;TZID=America/New_York:20260122T203000
DTSTAMP:20260424T113059
CREATED:20260112T183836Z
LAST-MODIFIED:20260211T015837Z
UID:10002421-1769110200-1769113800@edgedistrict.org
SUMMARY:Focaccia Class
DESCRIPTION:Join us for a Fresh Focaccia Class to learn how to make your own delicious\, beginner-friendly\, and versatile focaccia dough led by @doughsbycat \nThursday January 22nd 7:30 – 8:30 PM \n@ Sans Market 1037 Central Ave. \n-Learn how to use ingredients\, time and temperature to create different doughs\, flavors\, and results \n-Get creative with fresh herbs\, spices\, and fresh produce to season and personalize your focaccia \n-Take home your very own ready-to-bake dough\, recipe card\, and local herb bundle \nTickets are $35 and are non-refundable. Please note that spaces are limited for this event.
URL:https://edgedistrict.org/edge-event/focaccia-class/
LOCATION:Sans Market\, 1037 Central Ave\, St. Petersburg\, FL\, 33705
CATEGORIES:Educational
ATTACH;FMTTYPE=image/jpeg:https://edgedistrict.org/wp-content/uploads/2026/01/Instagram-Posts-24.jpg
END:VEVENT
BEGIN:VEVENT
DTSTART;TZID=America/New_York:20251218T193000
DTEND;TZID=America/New_York:20251218T203000
DTSTAMP:20260424T113059
CREATED:20251207T001259Z
LAST-MODIFIED:20251207T001259Z
UID:10002349-1766086200-1766089800@edgedistrict.org
SUMMARY:Holiday Sourdough Class
DESCRIPTION:
URL:https://edgedistrict.org/edge-event/holiday-sourdough-class/
LOCATION:Sans Market\, 1037 Central Ave\, St. Petersburg\, FL\, 33705
CATEGORIES:Educational
ATTACH;FMTTYPE=image/jpeg:https://edgedistrict.org/wp-content/uploads/2025/12/Instagram-Posts-25.jpg
END:VEVENT
BEGIN:VEVENT
DTSTART;TZID=America/New_York:20251211T193000
DTEND;TZID=America/New_York:20251211T203000
DTSTAMP:20260424T113059
CREATED:20251031T181307Z
LAST-MODIFIED:20251031T181307Z
UID:10000491-1765481400-1765485000@edgedistrict.org
SUMMARY:Wool Dryer Ball Workshop
DESCRIPTION:
URL:https://edgedistrict.org/edge-event/wool-dryer-ball-workshop/
LOCATION:Sans Market\, 1037 Central Ave\, St. Petersburg\, FL\, 33705
CATEGORIES:Educational
ATTACH;FMTTYPE=image/jpeg:https://edgedistrict.org/wp-content/uploads/2025/10/Instagram-Posts-19.jpg
END:VEVENT
BEGIN:VEVENT
DTSTART;TZID=America/New_York:20251113T193000
DTEND;TZID=America/New_York:20251113T203000
DTSTAMP:20260424T113059
CREATED:20251028T185607Z
LAST-MODIFIED:20251028T185607Z
UID:10000489-1763062200-1763065800@edgedistrict.org
SUMMARY:Vegan + Gluten Free Cheesecake Making Class
DESCRIPTION:
URL:https://edgedistrict.org/edge-event/vegan-gluten-free-cheesecake-making-class/
LOCATION:Sans Market\, 1037 Central Ave\, St. Petersburg\, FL\, 33705
CATEGORIES:Eat & Drink
ATTACH;FMTTYPE=image/jpeg:https://edgedistrict.org/wp-content/uploads/2025/10/Instagram-Posts-18.jpg
END:VEVENT
BEGIN:VEVENT
DTSTART;TZID=America/New_York:20251101T100000
DTEND;TZID=America/New_York:20251101T120000
DTSTAMP:20260424T113059
CREATED:20250930T184454Z
LAST-MODIFIED:20250930T184454Z
UID:10000476-1761991200-1761998400@edgedistrict.org
SUMMARY:Trash or Treat Post Halloween Clean Up
DESCRIPTION:
URL:https://edgedistrict.org/edge-event/trash-or-treat-post-halloween-clean-up/
LOCATION:Sans Market\, 1037 Central Ave\, St. Petersburg\, FL\, 33705
CATEGORIES:Family-Friendly Activity
ATTACH;FMTTYPE=image/jpeg:https://edgedistrict.org/wp-content/uploads/2025/09/Instagram-Posts-16.jpg
END:VEVENT
BEGIN:VEVENT
DTSTART;TZID=America/New_York:20251023T193000
DTEND;TZID=America/New_York:20251023T203000
DTSTAMP:20260424T113059
CREATED:20251003T214058Z
LAST-MODIFIED:20251003T214058Z
UID:10000478-1761247800-1761251400@edgedistrict.org
SUMMARY:Boos & Brews Mocktail Class
DESCRIPTION:
URL:https://edgedistrict.org/edge-event/boos-brews-mocktail-class/
LOCATION:Sans Market\, 1037 Central Ave\, St. Petersburg\, FL\, 33705
CATEGORIES:Eat & Drink
ATTACH;FMTTYPE=image/jpeg:https://edgedistrict.org/wp-content/uploads/2025/10/Instagram-Posts-17.jpg
END:VEVENT
BEGIN:VEVENT
DTSTART;TZID=America/New_York:20251017T193000
DTEND;TZID=America/New_York:20251017T203000
DTSTAMP:20260424T113059
CREATED:20250930T184710Z
LAST-MODIFIED:20250930T184710Z
UID:10000475-1760729400-1760733000@edgedistrict.org
SUMMARY:A Taste of St. Pete
DESCRIPTION:
URL:https://edgedistrict.org/edge-event/a-taste-of-st-pete/
LOCATION:Sans Market\, 1037 Central Ave\, St. Petersburg\, FL\, 33705
CATEGORIES:Eat & Drink
ATTACH;FMTTYPE=image/jpeg:https://edgedistrict.org/wp-content/uploads/2025/09/Instagram-Posts-15.jpg
END:VEVENT
BEGIN:VEVENT
DTSTART;TZID=America/New_York:20251012T160000
DTEND;TZID=America/New_York:20251012T190000
DTSTAMP:20260424T113059
CREATED:20250930T184902Z
LAST-MODIFIED:20250930T184902Z
UID:10000474-1760284800-1760295600@edgedistrict.org
SUMMARY:Fiesta of Flavors Pop Up
DESCRIPTION:
URL:https://edgedistrict.org/edge-event/fiesta-of-flavors-pop-up/
LOCATION:Sans Market\, 1037 Central Ave\, St. Petersburg\, FL\, 33705
ATTACH;FMTTYPE=image/jpeg:https://edgedistrict.org/wp-content/uploads/2025/09/Instagram-Posts-14.jpg
END:VEVENT
BEGIN:VEVENT
DTSTART;TZID=America/New_York:20250911T193000
DTEND;TZID=America/New_York:20250911T203000
DTSTAMP:20260424T113059
CREATED:20250825T131504Z
LAST-MODIFIED:20250825T131504Z
UID:10000456-1757619000-1757622600@edgedistrict.org
SUMMARY:No Bread No Bloat - Gut friendly alternatives
DESCRIPTION:
URL:https://edgedistrict.org/edge-event/no-bread-no-bloat-gut-friendly-alternatives/
LOCATION:Sans Market\, 1037 Central Ave\, St. Petersburg\, FL\, 33705
CATEGORIES:Eat & Drink
ATTACH;FMTTYPE=image/jpeg:https://edgedistrict.org/wp-content/uploads/2025/08/Instagram-Posts-11.jpg
END:VEVENT
BEGIN:VEVENT
DTSTART;TZID=America/New_York:20250905T193000
DTEND;TZID=America/New_York:20250905T210000
DTSTAMP:20260424T113059
CREATED:20250810T145900Z
LAST-MODIFIED:20250810T145900Z
UID:10000453-1757100600-1757106000@edgedistrict.org
SUMMARY:Sustainable Singles Mixer
DESCRIPTION:
URL:https://edgedistrict.org/edge-event/sustainable-singles-mixer/
LOCATION:Sans Market\, 1037 Central Ave\, St. Petersburg\, FL\, 33705
CATEGORIES:Music & Nightlife
ATTACH;FMTTYPE=image/jpeg:https://edgedistrict.org/wp-content/uploads/2025/08/Instagram-Posts-9.jpg
END:VEVENT
BEGIN:VEVENT
DTSTART;TZID=America/New_York:20250828T200000
DTEND;TZID=America/New_York:20250828T220000
DTSTAMP:20260424T113059
CREATED:20250810T145630Z
LAST-MODIFIED:20250810T145630Z
UID:10000452-1756411200-1756418400@edgedistrict.org
SUMMARY:Comedy Night
DESCRIPTION:Hosted by Sun Bear Specialty Roasters @ Sans Market \nThursday\, August 28th 8-10pm \n@ Sans Market 1037 Central Ave \n$15 entry \nGet ready to laugh until your stomach hurts at the Comedy Show – a night full of hilarious jokes and good vibes!
URL:https://edgedistrict.org/edge-event/comedy-night-4/
LOCATION:Sans Market\, 1037 Central Ave\, St. Petersburg\, FL\, 33705
CATEGORIES:Music & Nightlife
ATTACH;FMTTYPE=image/jpeg:https://edgedistrict.org/wp-content/uploads/2025/08/Untitled-design-3.jpg
END:VEVENT
BEGIN:VEVENT
DTSTART;TZID=America/New_York:20250821T193000
DTEND;TZID=America/New_York:20250821T203000
DTSTAMP:20260424T113059
CREATED:20250810T145447Z
LAST-MODIFIED:20250810T145447Z
UID:10000451-1755804600-1755808200@edgedistrict.org
SUMMARY:Kids Clothing Swap
DESCRIPTION:
URL:https://edgedistrict.org/edge-event/kids-clothing-swap/
LOCATION:Sans Market\, 1037 Central Ave\, St. Petersburg\, FL\, 33705
CATEGORIES:Shopping
ATTACH;FMTTYPE=image/jpeg:https://edgedistrict.org/wp-content/uploads/2025/08/Instagram-Posts-8.jpg
END:VEVENT
BEGIN:VEVENT
DTSTART;TZID=America/New_York:20250814T193000
DTEND;TZID=America/New_York:20250814T203000
DTSTAMP:20260424T113059
CREATED:20250810T145257Z
LAST-MODIFIED:20250810T145307Z
UID:10000450-1755199800-1755203400@edgedistrict.org
SUMMARY:St. Pete Town Hall Series
DESCRIPTION:
URL:https://edgedistrict.org/edge-event/st-pete-town-hall-series-at-sans-market/
LOCATION:Sans Market\, 1037 Central Ave\, St. Petersburg\, FL\, 33705
CATEGORIES:Educational
ATTACH;FMTTYPE=image/jpeg:https://edgedistrict.org/wp-content/uploads/2025/08/Instagram-Posts-4.jpg
END:VEVENT
BEGIN:VEVENT
DTSTART;TZID=America/New_York:20250805T193000
DTEND;TZID=America/New_York:20250805T203000
DTSTAMP:20260424T113059
CREATED:20250722T172836Z
LAST-MODIFIED:20250722T172836Z
UID:10000440-1754422200-1754425800@edgedistrict.org
SUMMARY:Eco Trivia Night
DESCRIPTION:
URL:https://edgedistrict.org/edge-event/eco-trivia-night/
LOCATION:Sans Market\, 1037 Central Ave\, St. Petersburg\, FL\, 33705
CATEGORIES:Educational,Family-Friendly Activity,Shopping
ATTACH;FMTTYPE=image/jpeg:https://edgedistrict.org/wp-content/uploads/2025/07/Instagram-Posts-2.jpg
END:VEVENT
BEGIN:VEVENT
DTSTART;TZID=America/New_York:20250727T120000
DTEND;TZID=America/New_York:20250727T160000
DTSTAMP:20260424T113059
CREATED:20250722T172647Z
LAST-MODIFIED:20250722T172647Z
UID:10000439-1753617600-1753632000@edgedistrict.org
SUMMARY:727 Day Pop Up
DESCRIPTION:
URL:https://edgedistrict.org/edge-event/727-day-pop-up/
LOCATION:Sans Market\, 1037 Central Ave\, St. Petersburg\, FL\, 33705
CATEGORIES:Eat & Drink,Family-Friendly Activity,Shopping
ATTACH;FMTTYPE=image/jpeg:https://edgedistrict.org/wp-content/uploads/2025/07/Instagram-Posts-1.jpg
END:VEVENT
BEGIN:VEVENT
DTSTART;TZID=America/New_York:20250724T190000
DTEND;TZID=America/New_York:20250724T210000
DTSTAMP:20260424T113059
CREATED:20250619T204442Z
LAST-MODIFIED:20250619T204442Z
UID:10000412-1753383600-1753390800@edgedistrict.org
SUMMARY:Clothing + Jewelry Repair Workshop
DESCRIPTION:
URL:https://edgedistrict.org/edge-event/clothing-jewelry-repair-workshop/
LOCATION:Sans Market\, 1037 Central Ave\, St. Petersburg\, FL\, 33705
CATEGORIES:Educational
ATTACH;FMTTYPE=image/jpeg:https://edgedistrict.org/wp-content/uploads/2025/06/Clothing-Repair-Instagram-1.jpg
END:VEVENT
BEGIN:VEVENT
DTSTART;TZID=America/New_York:20250717T193000
DTEND;TZID=America/New_York:20250717T203000
DTSTAMP:20260424T113059
CREATED:20250619T204119Z
LAST-MODIFIED:20250619T204119Z
UID:10000411-1752780600-1752784200@edgedistrict.org
SUMMARY:Quarterly Clothing Swap
DESCRIPTION:
URL:https://edgedistrict.org/edge-event/quarterly-clothing-swap-2/
LOCATION:Sans Market\, 1037 Central Ave\, St. Petersburg\, FL\, 33705
CATEGORIES:Charity
ATTACH;FMTTYPE=image/jpeg:https://edgedistrict.org/wp-content/uploads/2025/06/July-Clothing-Swap-Instagram.jpg
END:VEVENT
BEGIN:VEVENT
DTSTART;TZID=America/New_York:20250710T193000
DTEND;TZID=America/New_York:20250710T203000
DTSTAMP:20260424T113059
CREATED:20250619T203930Z
LAST-MODIFIED:20250625T012116Z
UID:10000410-1752175800-1752179400@edgedistrict.org
SUMMARY:Scrappy Cooking Class
DESCRIPTION:
URL:https://edgedistrict.org/edge-event/scrappy-cooking-class/
LOCATION:Sans Market\, 1037 Central Ave\, St. Petersburg\, FL\, 33705
CATEGORIES:Eat & Drink,Educational
ATTACH;FMTTYPE=image/jpeg:https://edgedistrict.org/wp-content/uploads/2025/06/Scrappy-Cooking-Instagram.jpg
END:VEVENT
BEGIN:VEVENT
DTSTART;TZID=America/New_York:20250703T193000
DTEND;TZID=America/New_York:20250703T203000
DTSTAMP:20260424T113059
CREATED:20250619T193045Z
LAST-MODIFIED:20250619T193045Z
UID:10000409-1751571000-1751574600@edgedistrict.org
SUMMARY:Plastic Free Living 101
DESCRIPTION:
URL:https://edgedistrict.org/edge-event/plastic-free-living-101/
LOCATION:Sans Market\, 1037 Central Ave\, St. Petersburg\, FL\, 33705
CATEGORIES:Educational
ATTACH;FMTTYPE=image/jpeg:https://edgedistrict.org/wp-content/uploads/2025/06/plastic-free-swaps-Instagram.jpg
END:VEVENT
BEGIN:VEVENT
DTSTART;TZID=America/New_York:20250628T160000
DTEND;TZID=America/New_York:20250628T190000
DTSTAMP:20260424T113059
CREATED:20250619T192714Z
LAST-MODIFIED:20250619T192714Z
UID:10000408-1751126400-1751137200@edgedistrict.org
SUMMARY:Pride Pop Up
DESCRIPTION:
URL:https://edgedistrict.org/edge-event/pride-pop-up/
LOCATION:Sans Market\, 1037 Central Ave\, St. Petersburg\, FL\, 33705
CATEGORIES:Eat & Drink,Market
ATTACH;FMTTYPE=image/jpeg:https://edgedistrict.org/wp-content/uploads/2025/06/pride-Instagram-1.jpg
END:VEVENT
BEGIN:VEVENT
DTSTART;TZID=America/New_York:20250618T193000
DTEND;TZID=America/New_York:20250618T203000
DTSTAMP:20260424T113059
CREATED:20250521T212943Z
LAST-MODIFIED:20250521T212943Z
UID:10000387-1750275000-1750278600@edgedistrict.org
SUMMARY:DIY Dried Floral Frame Workshop
DESCRIPTION:
URL:https://edgedistrict.org/edge-event/diy-dried-floral-frame-workshop/
LOCATION:Sans Market\, 1037 Central Ave\, St. Petersburg\, FL\, 33705
CATEGORIES:Art & Culture,Educational
ATTACH;FMTTYPE=image/jpeg:https://edgedistrict.org/wp-content/uploads/2025/05/Floral-Frame-Insta.jpg
END:VEVENT
END:VCALENDAR